BEGIN:VCALENDAR
VERSION:2.0
PRODID:-//jEvents 2.0 for Joomla//EN
CALSCALE:GREGORIAN
METHOD:PUBLISH
BEGIN:VTIMEZONE
TZID:Europe/Berlin
BEGIN:STANDARD
DTSTART:20211031T020000
RDATE:20220327T030000
TZOFFSETFROM:+0200
TZOFFSETTO:+0100
TZNAME:Europe/Berlin CET
END:STANDARD
BEGIN:STANDARD
DTSTART:20221030T020000
RDATE:20230326T030000
TZOFFSETFROM:+0200
TZOFFSETTO:+0100
TZNAME:Europe/Berlin CET
END:STANDARD
BEGIN:STANDARD
DTSTART:20231029T020000
RDATE:20240331T030000
TZOFFSETFROM:+0200
TZOFFSETTO:+0100
TZNAME:Europe/Berlin CET
END:STANDARD
BEGIN:STANDARD
DTSTART:20241027T020000
RDATE:20250330T030000
TZOFFSETFROM:+0200
TZOFFSETTO:+0100
TZNAME:Europe/Berlin CET
END:STANDARD
BEGIN:STANDARD
DTSTART:20251026T020000
RDATE:20260329T030000
TZOFFSETFROM:+0200
TZOFFSETTO:+0100
TZNAME:Europe/Berlin CET
END:STANDARD
BEGIN:STANDARD
DTSTART:20261025T020000
RDATE:20270328T030000
TZOFFSETFROM:+0200
TZOFFSETTO:+0100
TZNAME:Europe/Berlin CET
END:STANDARD
BEGIN:DAYLIGHT
DTSTART:20210709T110000
RDATE:20211031T020000
TZOFFSETFROM:+0100
TZOFFSETTO:+0200
TZNAME:Europe/Berlin CEST
END:DAYLIGHT
BEGIN:DAYLIGHT
DTSTART:20220327T030000
RDATE:20221030T020000
TZOFFSETFROM:+0100
TZOFFSETTO:+0200
TZNAME:Europe/Berlin CEST
END:DAYLIGHT
BEGIN:DAYLIGHT
DTSTART:20230326T030000
RDATE:20231029T020000
TZOFFSETFROM:+0100
TZOFFSETTO:+0200
TZNAME:Europe/Berlin CEST
END:DAYLIGHT
BEGIN:DAYLIGHT
DTSTART:20240331T030000
RDATE:20241027T020000
TZOFFSETFROM:+0100
TZOFFSETTO:+0200
TZNAME:Europe/Berlin CEST
END:DAYLIGHT
BEGIN:DAYLIGHT
DTSTART:20250330T030000
RDATE:20251026T020000
TZOFFSETFROM:+0100
TZOFFSETTO:+0200
TZNAME:Europe/Berlin CEST
END:DAYLIGHT
BEGIN:DAYLIGHT
DTSTART:20260329T030000
RDATE:20261025T020000
TZOFFSETFROM:+0100
TZOFFSETTO:+0200
TZNAME:Europe/Berlin CEST
END:DAYLIGHT
END:VTIMEZONE
BEGIN:VEVENT
UID:a7d0110128e845015c739c112debf9b3
CATEGORIES:Kantatengottesdienst
CREATED:20211222T180318
SUMMARY:KANTATENGOTTESDIENST in der DREIKÖNIGSKIRCHE
LOCATION:: Dreikönigskirche Frankfurt am Main (Sachsenhäuser Ufer | Nähe Eiserner St
 eg)
URL;VALUE=URI:https://www.kirchenmusik-dreikoenig.de/de/konzertprogramm-de/konzertkalende
 r/Eventdetail/132/-/kantatengottesdienst-in-der-dreikoenigskirche?tmpl=comp
 onent
DESCRIPTION:<p style="text-align: left;"><strong>Sonntag, 10.07.2022, <span style="text
 -decoration: underline;">11:00</span> Uhr, <br /></strong>(4. Sonntag nach 
 Trinitatis)<strong><br /><a title="Dreikönigskirche Frankfurt am Main (Sach
 senhäuser Mainufer, Nähe Eiserner Steg)">Dreikönigskirche Frankfurt am Main
 </a></strong></p><p style="text-align: left;"><strong>Kantatengottesdienst<
 /strong></p><p style="text-align: left;"><strong>Johann Sebastian Bach</str
 ong> (1685-1750)<strong><br /></strong><strong>"Ich ruf zu dir, Herr Jesu C
 hrist" </strong>| BWV 177<br />Solistische Aufführung ohne Chor</p> <a href
 ="https://www.kirchenmusik-dreikoenig.de/de/konzertprogramm-de/konzertkalen
 der/Eventdetail/132/-/kantatengottesdienst-in-der-dreikoenigskirche?tmpl=co
 mponent">Dieser Event wurde importiert von: https://www.kirchenmusik-dreiko
 enig.de/de/konzertprogramm-de/konzertkalender/Eventdetail/132/-/kantatengot
 tesdienst-in-der-dreikoenigskirche?tmpl=component</a>DTSTAMP:20260421T235836
DTSTART;TZID=Europe/Berlin:20220710T110000
DTEND;TZID=Europe/Berlin:20220710T120000
SEQUENCE:0
TRANSP:OPAQUE
END:VEVENT
END:VCALENDAR