BEGIN:VCALENDAR
VERSION:2.0
PRODID:-//jEvents 2.0 for Joomla//EN
CALSCALE:GREGORIAN
METHOD:PUBLISH
BEGIN:VTIMEZONE
TZID:Europe/Berlin
BEGIN:STANDARD
DTSTART:20221030T020000
RDATE:20230326T030000
TZOFFSETFROM:+0200
TZOFFSETTO:+0100
TZNAME:Europe/Berlin CET
END:STANDARD
BEGIN:STANDARD
DTSTART:20231029T020000
RDATE:20240331T030000
TZOFFSETFROM:+0200
TZOFFSETTO:+0100
TZNAME:Europe/Berlin CET
END:STANDARD
BEGIN:STANDARD
DTSTART:20241027T020000
RDATE:20250330T030000
TZOFFSETFROM:+0200
TZOFFSETTO:+0100
TZNAME:Europe/Berlin CET
END:STANDARD
BEGIN:STANDARD
DTSTART:20251026T020000
RDATE:20260329T030000
TZOFFSETFROM:+0200
TZOFFSETTO:+0100
TZNAME:Europe/Berlin CET
END:STANDARD
BEGIN:STANDARD
DTSTART:20261025T020000
RDATE:20270328T030000
TZOFFSETFROM:+0200
TZOFFSETTO:+0100
TZNAME:Europe/Berlin CET
END:STANDARD
BEGIN:DAYLIGHT
DTSTART:20220610T110000
RDATE:20221030T020000
TZOFFSETFROM:+0100
TZOFFSETTO:+0200
TZNAME:Europe/Berlin CEST
END:DAYLIGHT
BEGIN:DAYLIGHT
DTSTART:20230326T030000
RDATE:20231029T020000
TZOFFSETFROM:+0100
TZOFFSETTO:+0200
TZNAME:Europe/Berlin CEST
END:DAYLIGHT
BEGIN:DAYLIGHT
DTSTART:20240331T030000
RDATE:20241027T020000
TZOFFSETFROM:+0100
TZOFFSETTO:+0200
TZNAME:Europe/Berlin CEST
END:DAYLIGHT
BEGIN:DAYLIGHT
DTSTART:20250330T030000
RDATE:20251026T020000
TZOFFSETFROM:+0100
TZOFFSETTO:+0200
TZNAME:Europe/Berlin CEST
END:DAYLIGHT
BEGIN:DAYLIGHT
DTSTART:20260329T030000
RDATE:20261025T020000
TZOFFSETFROM:+0100
TZOFFSETTO:+0200
TZNAME:Europe/Berlin CEST
END:DAYLIGHT
END:VTIMEZONE
BEGIN:VEVENT
UID:2f4f93086927df8f97526920a064df1a
CATEGORIES:Kantatengottesdienst
CREATED:20230116T210408
SUMMARY:KANTATENGOTTESDIENST || BERGKIRCHE Sachsenhausen
LOCATION:: Bergkirche F-Sachsenhausen\, Sachsenhäuser Landwehrweg 157\, 60598 Frankf
 urt
URL;VALUE=URI:https://www.kirchenmusik-dreikoenig.de/de/konzertprogramm-de/konzertkalende
 r/Eventdetail/180/-/kantatengottesdienst-bergkirche-sachsenhausen?tmpl=comp
 onent
DESCRIPTION:Sonntag, 11.06.2023, 11:00 Uhr, \n(1. Sonntag nach Trinitatis)\nBergkirche 
 Frankfurt am Main-Sachsenhausen\nKantatengottesdienst \nJohann Philipp Krie
 ger (1649-1725)\n"Herr, auf dich trau ich" (Psalm 31)\n\nNatasha Goldberg |
  Sopran\nTelemann-Ensemble Frankfurt\nAndreas Köhs | Leitung und Orgel\nPfa
 rrer Thomas Sinning | Liturgie und Predigt \n \n \n Dieser Event wurde impo
 rtiert von: https://www.kirchenmusik-dreikoenig.de/de/konzertprogramm-de/ko
 nzertkalender/Eventdetail/180/-/kantatengottesdienst-bergkirche-sachsenhaus
 en?tmpl=component
X-ALT-DESC;FMTTYPE=text/html:<p style="text-align: left;"><strong>Sonntag, 11.06.2023, 11:00 Uhr, <br />
 </strong>(1. Sonntag nach Trinitatis)<strong><br /><a title="Bergkirche Fra
 nkfurt-Sachsenhausen (Sachsenhäuser Landwehrweg 157, 60599 Frankfurt am Mai
 n)">Bergkirche Frankfurt am Main-Sachsenhausen</a></strong></p><p style="te
 xt-align: left;"><strong>Kantatengottesdienst </strong></p><p style="text-a
 lign: left;"><strong>Johann Philipp Krieger </strong>(1649-1725)<strong><br
  />"Herr, auf dich trau ich" </strong>(Psalm 31)<strong><br /></strong></p>
 <p>Natasha Goldberg | Sopran<br />Telemann-Ensemble Frankfurt<br />Andreas 
 Köhs | Leitung und Orgel<br />Pfarrer Thomas Sinning | Liturgie und Predigt
  </p><p> </p><hr /><p style="text-align: left;"> </p> <a href="https://www.
 kirchenmusik-dreikoenig.de/de/konzertprogramm-de/konzertkalender/Eventdetai
 l/180/-/kantatengottesdienst-bergkirche-sachsenhausen?tmpl=component">Diese
 r Event wurde importiert von: https://www.kirchenmusik-dreikoenig.de/de/kon
 zertprogramm-de/konzertkalender/Eventdetail/180/-/kantatengottesdienst-berg
 kirche-sachsenhausen?tmpl=component</a>DTSTAMP:20260423T005903
DTSTART;TZID=Europe/Berlin:20230611T110000
DTEND;TZID=Europe/Berlin:20230611T120000
SEQUENCE:0
TRANSP:OPAQUE
END:VEVENT
END:VCALENDAR