BEGIN:VCALENDAR
VERSION:2.0
PRODID:-//jEvents 2.0 for Joomla//EN
CALSCALE:GREGORIAN
METHOD:PUBLISH
BEGIN:VTIMEZONE
TZID:Europe/Berlin
BEGIN:STANDARD
DTSTART:20221030T020000
RDATE:20230326T030000
TZOFFSETFROM:+0200
TZOFFSETTO:+0100
TZNAME:Europe/Berlin CET
END:STANDARD
BEGIN:STANDARD
DTSTART:20231029T020000
RDATE:20240331T030000
TZOFFSETFROM:+0200
TZOFFSETTO:+0100
TZNAME:Europe/Berlin CET
END:STANDARD
BEGIN:STANDARD
DTSTART:20241027T020000
RDATE:20250330T030000
TZOFFSETFROM:+0200
TZOFFSETTO:+0100
TZNAME:Europe/Berlin CET
END:STANDARD
BEGIN:STANDARD
DTSTART:20251026T020000
RDATE:20260329T030000
TZOFFSETFROM:+0200
TZOFFSETTO:+0100
TZNAME:Europe/Berlin CET
END:STANDARD
BEGIN:STANDARD
DTSTART:20261025T020000
RDATE:20270328T030000
TZOFFSETFROM:+0200
TZOFFSETTO:+0100
TZNAME:Europe/Berlin CET
END:STANDARD
BEGIN:DAYLIGHT
DTSTART:20220923T110000
RDATE:20221030T020000
TZOFFSETFROM:+0100
TZOFFSETTO:+0200
TZNAME:Europe/Berlin CEST
END:DAYLIGHT
BEGIN:DAYLIGHT
DTSTART:20230326T030000
RDATE:20231029T020000
TZOFFSETFROM:+0100
TZOFFSETTO:+0200
TZNAME:Europe/Berlin CEST
END:DAYLIGHT
BEGIN:DAYLIGHT
DTSTART:20240331T030000
RDATE:20241027T020000
TZOFFSETFROM:+0100
TZOFFSETTO:+0200
TZNAME:Europe/Berlin CEST
END:DAYLIGHT
BEGIN:DAYLIGHT
DTSTART:20250330T030000
RDATE:20251026T020000
TZOFFSETFROM:+0100
TZOFFSETTO:+0200
TZNAME:Europe/Berlin CEST
END:DAYLIGHT
BEGIN:DAYLIGHT
DTSTART:20260329T030000
RDATE:20261025T020000
TZOFFSETFROM:+0100
TZOFFSETTO:+0200
TZNAME:Europe/Berlin CEST
END:DAYLIGHT
END:VTIMEZONE
BEGIN:VEVENT
UID:db0e7dcd48ab930a5a45fc56ad86b487
CATEGORIES:Kantatengottesdienst
CREATED:20230116T211325
SUMMARY:KANTATENGOTTESDIENST | BWV 161 || DREIKÖNIGSKIRCHE
LOCATION:: Dreikönigskiche Frankfurt am Main\, Sachsenhäuser Ufer | Nähe Eiserner St
 eg
URL;VALUE=URI:https://www.kirchenmusik-dreikoenig.de/de/konzertprogramm-de/konzertkalende
 r/Eventdetail/185/-/kantatengottesdienst-bwv-161-dreikoenigskirche?tmpl=com
 ponent
DESCRIPTION:Sonntag, 24.09.2023, 11:00 Uhr,\nDreikönigskirche Frankfurt am Main\nKantat
 engottesdienst \nJohann Sebastian Bach (1685-1750)\n"Komm, du süße Todesstu
 nde" | BWV 161\nNatasha Goldberg | Sopran\nJulia Diefenbach | Alt\nChristia
 n Rathgeber | Tenor\nStefan Grunwald | Bass\nTelemann-Ensemble Frankfurt\nA
 ndreas Köhs | Leitung und Orgel\nPfarrer Thomas Sinning | Liturgie und Pred
 igt \n \n \n \n \n Dieser Event wurde importiert von: https://www.kirchenmu
 sik-dreikoenig.de/de/konzertprogramm-de/konzertkalender/Eventdetail/185/-/k
 antatengottesdienst-bwv-161-dreikoenigskirche?tmpl=component
X-ALT-DESC;FMTTYPE=text/html:<p style="text-align: left;"><strong>Sonntag, 24.09.2023, 11:00 Uhr,</stron
 g><strong><br /><a title="Dreikönigskirche Frankfurt am Main (Sachsenhäuser
  Mainufer, Nähe Eiserner Steg)">Dreikönigskirche Frankfurt am Main</a></str
 ong></p><p style="text-align: left;"><strong>Kantatengottesdienst </strong>
 </p><p style="text-align: left;"><strong>Johann Sebastian Bach </strong>(16
 85-1750)<br /><strong>"Komm, du süße Todesstunde" </strong>| BWV 161</p><p>
 Natasha Goldberg | Sopran<br />Julia Diefenbach | Alt<br />Christian Rathge
 ber | Tenor<br />Stefan Grunwald | Bass<br />Telemann-Ensemble Frankfurt<br
  />Andreas Köhs | Leitung und Orgel<br />Pfarrer Thomas Sinning | Liturgie 
 und Predigt </p><p> </p><p> </p><p> </p><p style="text-align: left;"> </p> 
 <a href="https://www.kirchenmusik-dreikoenig.de/de/konzertprogramm-de/konze
 rtkalender/Eventdetail/185/-/kantatengottesdienst-bwv-161-dreikoenigskirche
 ?tmpl=component">Dieser Event wurde importiert von: https://www.kirchenmusi
 k-dreikoenig.de/de/konzertprogramm-de/konzertkalender/Eventdetail/185/-/kan
 tatengottesdienst-bwv-161-dreikoenigskirche?tmpl=component</a>DTSTAMP:20260423T084531
DTSTART;TZID=Europe/Berlin:20230924T110000
DTEND;TZID=Europe/Berlin:20230924T120000
SEQUENCE:0
TRANSP:OPAQUE
END:VEVENT
END:VCALENDAR