BEGIN:VCALENDAR
VERSION:2.0
PRODID:-//jEvents 2.0 for Joomla//EN
CALSCALE:GREGORIAN
METHOD:PUBLISH
BEGIN:VTIMEZONE
TZID:Europe/Berlin
BEGIN:STANDARD
DTSTART:20221118T110000
RDATE:20230326T030000
TZOFFSETFROM:+0200
TZOFFSETTO:+0100
TZNAME:Europe/Berlin CET
END:STANDARD
BEGIN:STANDARD
DTSTART:20231029T020000
RDATE:20240331T030000
TZOFFSETFROM:+0200
TZOFFSETTO:+0100
TZNAME:Europe/Berlin CET
END:STANDARD
BEGIN:STANDARD
DTSTART:20241027T020000
RDATE:20250330T030000
TZOFFSETFROM:+0200
TZOFFSETTO:+0100
TZNAME:Europe/Berlin CET
END:STANDARD
BEGIN:STANDARD
DTSTART:20251026T020000
RDATE:20260329T030000
TZOFFSETFROM:+0200
TZOFFSETTO:+0100
TZNAME:Europe/Berlin CET
END:STANDARD
BEGIN:STANDARD
DTSTART:20261025T020000
RDATE:20270328T030000
TZOFFSETFROM:+0200
TZOFFSETTO:+0100
TZNAME:Europe/Berlin CET
END:STANDARD
BEGIN:DAYLIGHT
DTSTART:20230326T030000
RDATE:20231029T020000
TZOFFSETFROM:+0100
TZOFFSETTO:+0200
TZNAME:Europe/Berlin CEST
END:DAYLIGHT
BEGIN:DAYLIGHT
DTSTART:20240331T030000
RDATE:20241027T020000
TZOFFSETFROM:+0100
TZOFFSETTO:+0200
TZNAME:Europe/Berlin CEST
END:DAYLIGHT
BEGIN:DAYLIGHT
DTSTART:20250330T030000
RDATE:20251026T020000
TZOFFSETFROM:+0100
TZOFFSETTO:+0200
TZNAME:Europe/Berlin CEST
END:DAYLIGHT
BEGIN:DAYLIGHT
DTSTART:20260329T030000
RDATE:20261025T020000
TZOFFSETFROM:+0100
TZOFFSETTO:+0200
TZNAME:Europe/Berlin CEST
END:DAYLIGHT
END:VTIMEZONE
BEGIN:VEVENT
UID:ddddca9c671d65f63d4f788947cb1db1
CATEGORIES:Kantatengottesdienst
CREATED:20230519T152522
SUMMARY:KANTATENGOTTESDIENST | BWV 221 || ERLÖSERGEMEINDE Frankfurt-Oberrad
LOCATION:: Gemeindehaus der Erlösergemeinde Oberrad (Wiener Straße 23\, 60599 Frankf
 urt-Oberrad)
URL;VALUE=URI:https://www.kirchenmusik-dreikoenig.de/de/konzertprogramm-de/konzertkalende
 r/Eventdetail/206/-/kantatengottesdienst-bwv-221-erloesergemeinde-frankfurt
 -oberrad?tmpl=component
DESCRIPTION:Achtung: Anderer Ort!\nSonntag, 19.11.2023, 11:00 Uhr,\nGemeindehaus der Ev
 .-Luth. Erlösergemeinde Frankfurt am Main-Oberrad (https://erloesergemeinde
 -oberrad.ekhn.de/startseite.html)\n(Wiener Straße 23, 60599 Frankfurt)\nKan
 tatengottesdienst Anonymus (ursprünglich J. S. Bach zugeschrieben)\n"Wer su
 cht die Pracht, wer wünscht den Glanz" | BWV 221\nChristian Rathgeber | Ten
 or\nChristoph Kögel | Bass\nTelemann-Ensemble Frankfurt\nAndreas Köhs | Lei
 tung und Truhenorgel\nPfarrerin Anne-Katrin Helms | Liturgie und Predigt\n 
 \n Dieser Event wurde importiert von: https://www.kirchenmusik-dreikoenig.d
 e/de/konzertprogramm-de/konzertkalender/Eventdetail/206/-/kantatengottesdie
 nst-bwv-221-erloesergemeinde-frankfurt-oberrad?tmpl=component
X-ALT-DESC;FMTTYPE=text/html:<p style="text-align: left;"><strong>Achtung: Anderer Ort!</strong></p><p s
 tyle="text-align: left;"><strong>Sonntag, 19.11.2023, 11:00 Uhr,</strong><b
 r /><strong><a title="Gemeindehaus der Ev.-Luth. Erlösergemeinde Frankfurt 
 am Main-Oberrad (Wiener Straße 23, 60599 Frankfurt-Oberrad)" href="https://
 erloesergemeinde-oberrad.ekhn.de/startseite.html" target="_blank" rel="noop
 ener noreferrer"><span style="text-decoration: underline;">Gemeindehaus</sp
 an> der Ev.-Luth. Erlösergemeinde Frankfurt am Main-Oberrad</a><a title="Ge
 meindehaus der Ev.-Luth. Erlösergemeinde Frankfurt am Main-Oberrad (Wiener 
 Straße 23, 60499 Frankfurt)"><br /></a></strong>(Wiener Straße 23, 60599 Fr
 ankfurt)</p><h4 style="text-align: left;"><strong>Kantatengottesdienst </st
 rong></h4><p style="text-align: left;"><strong>Anonymus (ursprünglich J. S.
  Bach zugeschrieben)</strong><br /><strong>"Wer sucht die Pracht, wer wünsc
 ht den Glanz" </strong>| BWV 221<br />Christian Rathgeber | Tenor<br />Chri
 stoph Kögel | Bass<br />Telemann-Ensemble Frankfurt<br />Andreas Köhs | Lei
 tung und Truhenorgel<br />Pfarrerin Anne-Katrin Helms | Liturgie und Predig
 t</p><p style="text-align: left;"> </p><hr /> <a href="https://www.kirchenm
 usik-dreikoenig.de/de/konzertprogramm-de/konzertkalender/Eventdetail/206/-/
 kantatengottesdienst-bwv-221-erloesergemeinde-frankfurt-oberrad?tmpl=compon
 ent">Dieser Event wurde importiert von: https://www.kirchenmusik-dreikoenig
 .de/de/konzertprogramm-de/konzertkalender/Eventdetail/206/-/kantatengottesd
 ienst-bwv-221-erloesergemeinde-frankfurt-oberrad?tmpl=component</a>DTSTAMP:20260423T051513
DTSTART;TZID=Europe/Berlin:20231119T110000
DTEND;TZID=Europe/Berlin:20231119T120000
SEQUENCE:0
TRANSP:OPAQUE
END:VEVENT
END:VCALENDAR