BEGIN:VCALENDAR
VERSION:2.0
PRODID:-//jEvents 2.0 for Joomla//EN
CALSCALE:GREGORIAN
METHOD:PUBLISH
BEGIN:VTIMEZONE
TZID:Europe/Berlin
BEGIN:STANDARD
DTSTART:20230209T170000
RDATE:20230326T030000
TZOFFSETFROM:+0200
TZOFFSETTO:+0100
TZNAME:Europe/Berlin CET
END:STANDARD
BEGIN:STANDARD
DTSTART:20231029T020000
RDATE:20240331T030000
TZOFFSETFROM:+0200
TZOFFSETTO:+0100
TZNAME:Europe/Berlin CET
END:STANDARD
BEGIN:STANDARD
DTSTART:20241027T020000
RDATE:20250330T030000
TZOFFSETFROM:+0200
TZOFFSETTO:+0100
TZNAME:Europe/Berlin CET
END:STANDARD
BEGIN:STANDARD
DTSTART:20251026T020000
RDATE:20260329T030000
TZOFFSETFROM:+0200
TZOFFSETTO:+0100
TZNAME:Europe/Berlin CET
END:STANDARD
BEGIN:STANDARD
DTSTART:20261025T020000
RDATE:20270328T030000
TZOFFSETFROM:+0200
TZOFFSETTO:+0100
TZNAME:Europe/Berlin CET
END:STANDARD
BEGIN:DAYLIGHT
DTSTART:20230326T030000
RDATE:20231029T020000
TZOFFSETFROM:+0100
TZOFFSETTO:+0200
TZNAME:Europe/Berlin CEST
END:DAYLIGHT
BEGIN:DAYLIGHT
DTSTART:20240331T030000
RDATE:20241027T020000
TZOFFSETFROM:+0100
TZOFFSETTO:+0200
TZNAME:Europe/Berlin CEST
END:DAYLIGHT
BEGIN:DAYLIGHT
DTSTART:20250330T030000
RDATE:20251026T020000
TZOFFSETFROM:+0100
TZOFFSETTO:+0200
TZNAME:Europe/Berlin CEST
END:DAYLIGHT
BEGIN:DAYLIGHT
DTSTART:20260329T030000
RDATE:20261025T020000
TZOFFSETFROM:+0100
TZOFFSETTO:+0200
TZNAME:Europe/Berlin CEST
END:DAYLIGHT
END:VTIMEZONE
BEGIN:VEVENT
UID:73d612c761abaf544f3c8dee1aa2ceb5
CATEGORIES:Musikalische Vesper | "Klangzeit"
CREATED:20231231T160127
SUMMARY:MUSIKALISCHE VESPER | Martin Hertel, Orgel
LOCATION:: Dreikönigskirche Frankfurt am Main (Sachsenhäuser Ufer | Nähe Eiserner St
 eg)
URL;VALUE=URI:https://www.kirchenmusik-dreikoenig.de/de/konzertprogramm-de/konzertkalende
 r/Eventdetail/214/-/musikalische-vesper-martin-hertel-orgel?tmpl=component
DESCRIPTION:<p style="text-align: left;"><strong>Samstag, 10.02.2024, 17:00 Uhr, <br />
 </strong><strong><a title="Dreikönigskirche Frankfurt am Main (Sachsenhäuse
 r Mainufer, Nähe Eiserner Steg)">Dreikönigskirche Frankfurt am Main</a></st
 rong><strong><br /></strong></p><p style="text-align: left;"><strong>Musika
 lische Vesper</strong></p><p style="text-align: left;">Martin Hertel | Orge
 l</p> <a href="https://www.kirchenmusik-dreikoenig.de/de/konzertprogramm-de
 /konzertkalender/Eventdetail/214/-/musikalische-vesper-martin-hertel-orgel?
 tmpl=component">Dieser Event wurde importiert von: https://www.kirchenmusik
 -dreikoenig.de/de/konzertprogramm-de/konzertkalender/Eventdetail/214/-/musi
 kalische-vesper-martin-hertel-orgel?tmpl=component</a>DTSTAMP:20260419T163641
DTSTART;TZID=Europe/Berlin:20240210T170000
DTEND;TZID=Europe/Berlin:20240210T174500
SEQUENCE:0
TRANSP:OPAQUE
END:VEVENT
END:VCALENDAR