BEGIN:VCALENDAR
VERSION:2.0
PRODID:-//jEvents 2.0 for Joomla//EN
CALSCALE:GREGORIAN
METHOD:PUBLISH
BEGIN:VTIMEZONE
TZID:Europe/Berlin
BEGIN:STANDARD
DTSTART:20230302T170000
RDATE:20230326T030000
TZOFFSETFROM:+0200
TZOFFSETTO:+0100
TZNAME:Europe/Berlin CET
END:STANDARD
BEGIN:STANDARD
DTSTART:20231029T020000
RDATE:20240331T030000
TZOFFSETFROM:+0200
TZOFFSETTO:+0100
TZNAME:Europe/Berlin CET
END:STANDARD
BEGIN:STANDARD
DTSTART:20241027T020000
RDATE:20250330T030000
TZOFFSETFROM:+0200
TZOFFSETTO:+0100
TZNAME:Europe/Berlin CET
END:STANDARD
BEGIN:STANDARD
DTSTART:20251026T020000
RDATE:20260329T030000
TZOFFSETFROM:+0200
TZOFFSETTO:+0100
TZNAME:Europe/Berlin CET
END:STANDARD
BEGIN:STANDARD
DTSTART:20261025T020000
RDATE:20270328T030000
TZOFFSETFROM:+0200
TZOFFSETTO:+0100
TZNAME:Europe/Berlin CET
END:STANDARD
BEGIN:DAYLIGHT
DTSTART:20230326T030000
RDATE:20231029T020000
TZOFFSETFROM:+0100
TZOFFSETTO:+0200
TZNAME:Europe/Berlin CEST
END:DAYLIGHT
BEGIN:DAYLIGHT
DTSTART:20240331T030000
RDATE:20241027T020000
TZOFFSETFROM:+0100
TZOFFSETTO:+0200
TZNAME:Europe/Berlin CEST
END:DAYLIGHT
BEGIN:DAYLIGHT
DTSTART:20250330T030000
RDATE:20251026T020000
TZOFFSETFROM:+0100
TZOFFSETTO:+0200
TZNAME:Europe/Berlin CEST
END:DAYLIGHT
BEGIN:DAYLIGHT
DTSTART:20260329T030000
RDATE:20261025T020000
TZOFFSETFROM:+0100
TZOFFSETTO:+0200
TZNAME:Europe/Berlin CEST
END:DAYLIGHT
END:VTIMEZONE
BEGIN:VEVENT
UID:dfe087c8b668251c435650d67be264ab
CATEGORIES:Musikalische Vesper | "Klangzeit"
CREATED:20231231T160452
SUMMARY:MUSIKALISCHE VESPER | Gesine Kalbhenn-Rzepka, Violine solo
LOCATION:: Dreikönigskirche Frankfurt am Main (Sachsenhäuser Ufer | Nähe Eiserner St
 eg)
URL;VALUE=URI:https://www.kirchenmusik-dreikoenig.de/de/konzertprogramm-de/konzertkalende
 r/Eventdetail/217/-/musikalische-vesper-gesine-kalbhenn-rzepka-violine-solo
 ?tmpl=component
DESCRIPTION:Samstag, 02.03.2024, 17:00 Uhr, \nDreikönigskirche Frankfurt am Main\n\nMus
 ikalische Vesper\nGesine Kalbhenn-Rzepka | Violine solo\n Dieser Event wurd
 e importiert von: https://www.kirchenmusik-dreikoenig.de/de/konzertprogramm
 -de/konzertkalender/Eventdetail/217/-/musikalische-vesper-gesine-kalbhenn-r
 zepka-violine-solo?tmpl=component
X-ALT-DESC;FMTTYPE=text/html:<p style="text-align: left;"><strong>Samstag, 02.03.2024, 17:00 Uhr, <br />
 </strong><strong><a title="Dreikönigskirche Frankfurt am Main (Sachsenhäuse
 r Mainufer, Nähe Eiserner Steg)">Dreikönigskirche Frankfurt am Main</a></st
 rong><strong><br /></strong></p><p style="text-align: left;"><strong>Musika
 lische Vesper</strong></p><p style="text-align: left;">Gesine Kalbhenn-Rzep
 ka | Violine solo</p> <a href="https://www.kirchenmusik-dreikoenig.de/de/ko
 nzertprogramm-de/konzertkalender/Eventdetail/217/-/musikalische-vesper-gesi
 ne-kalbhenn-rzepka-violine-solo?tmpl=component">Dieser Event wurde importie
 rt von: https://www.kirchenmusik-dreikoenig.de/de/konzertprogramm-de/konzer
 tkalender/Eventdetail/217/-/musikalische-vesper-gesine-kalbhenn-rzepka-viol
 ine-solo?tmpl=component</a>DTSTAMP:20260421T141109
DTSTART;TZID=Europe/Berlin:20240302T170000
DTEND;TZID=Europe/Berlin:20240302T174500
SEQUENCE:0
TRANSP:OPAQUE
END:VEVENT
END:VCALENDAR