BEGIN:VCALENDAR
VERSION:2.0
PRODID:-//jEvents 2.0 for Joomla//EN
CALSCALE:GREGORIAN
METHOD:PUBLISH
BEGIN:VTIMEZONE
TZID:Europe/Berlin
BEGIN:STANDARD
DTSTART:20231029T020000
RDATE:20240331T030000
TZOFFSETFROM:+0200
TZOFFSETTO:+0100
TZNAME:Europe/Berlin CET
END:STANDARD
BEGIN:STANDARD
DTSTART:20241027T020000
RDATE:20250330T030000
TZOFFSETFROM:+0200
TZOFFSETTO:+0100
TZNAME:Europe/Berlin CET
END:STANDARD
BEGIN:STANDARD
DTSTART:20251026T020000
RDATE:20260329T030000
TZOFFSETFROM:+0200
TZOFFSETTO:+0100
TZNAME:Europe/Berlin CET
END:STANDARD
BEGIN:STANDARD
DTSTART:20261025T020000
RDATE:20270328T030000
TZOFFSETFROM:+0200
TZOFFSETTO:+0100
TZNAME:Europe/Berlin CET
END:STANDARD
BEGIN:DAYLIGHT
DTSTART:20230824T170000
RDATE:20231029T020000
TZOFFSETFROM:+0100
TZOFFSETTO:+0200
TZNAME:Europe/Berlin CEST
END:DAYLIGHT
BEGIN:DAYLIGHT
DTSTART:20240331T030000
RDATE:20241027T020000
TZOFFSETFROM:+0100
TZOFFSETTO:+0200
TZNAME:Europe/Berlin CEST
END:DAYLIGHT
BEGIN:DAYLIGHT
DTSTART:20250330T030000
RDATE:20251026T020000
TZOFFSETFROM:+0100
TZOFFSETTO:+0200
TZNAME:Europe/Berlin CEST
END:DAYLIGHT
BEGIN:DAYLIGHT
DTSTART:20260329T030000
RDATE:20261025T020000
TZOFFSETFROM:+0100
TZOFFSETTO:+0200
TZNAME:Europe/Berlin CEST
END:DAYLIGHT
END:VTIMEZONE
BEGIN:VEVENT
UID:b018089882058ad72c0781ed903e0e40
CATEGORIES:Orgelkonzert
CREATED:20231231T162842
SUMMARY:ORGELMEILE 2024 | MUSEUMSUFERFEST || ANDREAS KÖHS, Orgel || DREIKÖNIGSKIRCHE
LOCATION:: Dreikönigskirche Frankfurt am Main (Sachsenhäuser Ufer | Nähe Eiserner St
 eg)
URL;VALUE=URI:https://www.kirchenmusik-dreikoenig.de/de/konzertprogramm-de/konzertkalende
 r/Eventdetail/233/-/orgelmeile-2024-museumsuferfest-andreas-koehs-orgel-dre
 ikoenigskirche?tmpl=component
DESCRIPTION:Samstag, 24.08.2024, 17:00 Uhr \nDreikönigskirche Frankfurt am Main\nMUSE|U
 MS|UFER|FEST 2024\nORGELMEILE Orgelkonzerte zu jeder vollen Stunde \nin den
  Frankfurter Stadtkirchen\n"Bach ... ? Was sonst!"\nAndreas Köhs | Schuke-O
 rgel\nEintritt: frei\n \n Dieser Event wurde importiert von: https://www.ki
 rchenmusik-dreikoenig.de/de/konzertprogramm-de/konzertkalender/Eventdetail/
 233/-/orgelmeile-2024-museumsuferfest-andreas-koehs-orgel-dreikoenigskirche
 ?tmpl=component (https://www.kirchenmusik-dreikoenig.de/de/konzertprogramm-
 de/konzertkalender/Eventdetail/233/-/orgelmeile-2024-museumsuferfest-andrea
 s-koehs-orgel-dreikoenigskirche?tmpl=component)
X-ALT-DESC;FMTTYPE=text/html:<p style="text-align: left;"><strong>Samstag, 24.08.2024, 17:00 Uhr <br /><
 a title="Dreikönigskirche Frankfurt am Main (Sachsenhäuser Mainufer, Nähe E
 iserner Steg)">Dreikönigskirche Frankfurt am Main</a></strong></p><h4 style
 ="text-align: left;"><strong>MUSE<span style="color: #999999;">|UMS|UFER|</
 span>FEST 2024<br /></strong><strong>ORGELMEILE&nbsp;</strong></h4><p style
 ="text-align: left;">Orgelkonzerte zu jeder vollen Stunde <br />in den Fran
 kfurter Stadtkirchen</p><p>"Bach ... ? Was sonst!"</p><p style="text-align:
  left;"><strong>Andreas Köhs</strong> | Schuke-Orgel</p><p style="text-alig
 n: left;">Eintritt: frei</p><p style="text-align: left;">&nbsp;</p><hr /> <
 a href="https://www.kirchenmusik-dreikoenig.de/de/konzertprogramm-de/konzer
 tkalender/Eventdetail/233/-/orgelmeile-2024-museumsuferfest-andreas-koehs-o
 rgel-dreikoenigskirche?tmpl=component">Dieser Event wurde importiert von: h
 ttps://www.kirchenmusik-dreikoenig.de/de/konzertprogramm-de/konzertkalender
 /Eventdetail/233/-/orgelmeile-2024-museumsuferfest-andreas-koehs-orgel-drei
 koenigskirche?tmpl=component</a>DTSTAMP:20260421T200235
DTSTART;TZID=Europe/Berlin:20240824T170000
DTEND;TZID=Europe/Berlin:20240824T173000
SEQUENCE:0
TRANSP:OPAQUE
END:VEVENT
END:VCALENDAR