BEGIN:VCALENDAR
VERSION:2.0
PRODID:-//jEvents 2.0 for Joomla//EN
CALSCALE:GREGORIAN
METHOD:PUBLISH
BEGIN:VTIMEZONE
TZID:Europe/Berlin
BEGIN:STANDARD
DTSTART:20231029T020000
RDATE:20240331T030000
TZOFFSETFROM:+0200
TZOFFSETTO:+0100
TZNAME:Europe/Berlin CET
END:STANDARD
BEGIN:STANDARD
DTSTART:20241027T020000
RDATE:20250330T030000
TZOFFSETFROM:+0200
TZOFFSETTO:+0100
TZNAME:Europe/Berlin CET
END:STANDARD
BEGIN:STANDARD
DTSTART:20251026T020000
RDATE:20260329T030000
TZOFFSETFROM:+0200
TZOFFSETTO:+0100
TZNAME:Europe/Berlin CET
END:STANDARD
BEGIN:STANDARD
DTSTART:20261025T020000
RDATE:20270328T030000
TZOFFSETFROM:+0200
TZOFFSETTO:+0100
TZNAME:Europe/Berlin CET
END:STANDARD
BEGIN:DAYLIGHT
DTSTART:20230825T110000
RDATE:20231029T020000
TZOFFSETFROM:+0100
TZOFFSETTO:+0200
TZNAME:Europe/Berlin CEST
END:DAYLIGHT
BEGIN:DAYLIGHT
DTSTART:20240331T030000
RDATE:20241027T020000
TZOFFSETFROM:+0100
TZOFFSETTO:+0200
TZNAME:Europe/Berlin CEST
END:DAYLIGHT
BEGIN:DAYLIGHT
DTSTART:20250330T030000
RDATE:20251026T020000
TZOFFSETFROM:+0100
TZOFFSETTO:+0200
TZNAME:Europe/Berlin CEST
END:DAYLIGHT
BEGIN:DAYLIGHT
DTSTART:20260329T030000
RDATE:20261025T020000
TZOFFSETFROM:+0100
TZOFFSETTO:+0200
TZNAME:Europe/Berlin CEST
END:DAYLIGHT
END:VTIMEZONE
BEGIN:VEVENT
UID:5f88c709f1d2653d37af64e309f7cfb2
CATEGORIES:Kantatengottesdienst
CREATED:20240507T214841
SUMMARY:KANTATENGOTTESDIENST | J. Ph. Krieger || ERLÖSERGEMEINDE Frankfurt-Oberrad
LOCATION:: Erlösergemeinde Oberrad (Wiener Straße 23\, 60599 Frankfurt-Oberrad)
URL;VALUE=URI:https://www.kirchenmusik-dreikoenig.de/de/konzertprogramm-de/konzertkalende
 r/Eventdetail/248/-/kantatengottesdienst-j-ph-krieger-erloesergemeinde-fran
 kfurt-oberrad?tmpl=component
DESCRIPTION:Sonntag, 25.08.2024, 11:00 Uhr,\nEv.-Luth. Erlöserkirche Frankfurt am Main-
 Oberrad (https://erloesergemeinde-oberrad.ekhn.de/startseite.html)\n(Wiener
  Straße 23, 60599 Frankfurt)\nKantatengottesdienst Johann Philipp Krieger (
 1649-1725)\nPsalmvertonungen aus "Musikalischer Seelenfriede"\n"Der Herr is
 t mein Licht" | Psalm 27\n"Es stehe Gott auf " | Psalm 68\nNatasha Goldberg
  | Sopran\nTelemann-Ensemble Frankfurt\nAndreas Köhs | Leitung und Cembalo\
 nPfarrerin Anne-Katrin Helms | Liturgie und Predigt\n \n Dieser Event wurde
  importiert von: https://www.kirchenmusik-dreikoenig.de/de/konzertprogramm-
 de/konzertkalender/Eventdetail/248/-/kantatengottesdienst-j-ph-krieger-erlo
 esergemeinde-frankfurt-oberrad?tmpl=component (https://www.kirchenmusik-dre
 ikoenig.de/de/konzertprogramm-de/konzertkalender/Eventdetail/248/-/kantaten
 gottesdienst-j-ph-krieger-erloesergemeinde-frankfurt-oberrad?tmpl=component
 )
X-ALT-DESC;FMTTYPE=text/html:<p style="text-align: left;"><strong>Sonntag, 25.08.2024, 11:00 Uhr,</stron
 g><br /><strong><a href="https://erloesergemeinde-oberrad.ekhn.de/startseit
 e.html" target="_blank" rel="noopener noreferrer" title="Ev.-Luth. Erlöserk
 irche Frankfurt am Main-Oberrad (Wiener Straße 23, 60599 Frankfurt-Oberrad)
 ">Ev.-Luth. Erlöserkirche Frankfurt am Main-Oberrad</a><a title="Ev.-Luth. 
 Erlösergemeinde Frankfurt am Main-Oberrad (Wiener Straße 23, 60499 Frankfur
 t)"><br /></a></strong>(Wiener Straße 23, 60599 Frankfurt)</p><h4 style="te
 xt-align: left;"><strong>Kantatengottesdienst&nbsp;</strong></h4><p style="
 text-align: left;"><strong>Johann Philipp Krieger </strong>(1649-1725)<br /
 ><strong>Psalmvertonungen aus "Musikalischer Seelenfriede"</strong><br /><s
 trong>"Der Herr ist mein Licht" </strong>| Psalm 27<br /><strong>"Es stehe 
 Gott auf "</strong> | Psalm 68<br />Natasha Goldberg | Sopran<br />Telemann
 -Ensemble Frankfurt<br />Andreas Köhs | Leitung und Cembalo<br />Pfarrerin 
 Anne-Katrin Helms | Liturgie und Predigt</p><p>&nbsp;</p><hr /> <a href="ht
 tps://www.kirchenmusik-dreikoenig.de/de/konzertprogramm-de/konzertkalender/
 Eventdetail/248/-/kantatengottesdienst-j-ph-krieger-erloesergemeinde-frankf
 urt-oberrad?tmpl=component">Dieser Event wurde importiert von: https://www.
 kirchenmusik-dreikoenig.de/de/konzertprogramm-de/konzertkalender/Eventdetai
 l/248/-/kantatengottesdienst-j-ph-krieger-erloesergemeinde-frankfurt-oberra
 d?tmpl=component</a>DTSTAMP:20260421T213420
DTSTART;TZID=Europe/Berlin:20240825T110000
DTEND;TZID=Europe/Berlin:20240825T120000
SEQUENCE:0
TRANSP:OPAQUE
END:VEVENT
END:VCALENDAR