BEGIN:VCALENDAR
VERSION:2.0
PRODID:-//jEvents 2.0 for Joomla//EN
CALSCALE:GREGORIAN
METHOD:PUBLISH
BEGIN:VTIMEZONE
TZID:Europe/Berlin
BEGIN:STANDARD
DTSTART:20240101T170000
RDATE:20240331T030000
TZOFFSETFROM:+0200
TZOFFSETTO:+0100
TZNAME:Europe/Berlin CET
END:STANDARD
BEGIN:STANDARD
DTSTART:20241027T020000
RDATE:20250330T030000
TZOFFSETFROM:+0200
TZOFFSETTO:+0100
TZNAME:Europe/Berlin CET
END:STANDARD
BEGIN:STANDARD
DTSTART:20251026T020000
RDATE:20260329T030000
TZOFFSETFROM:+0200
TZOFFSETTO:+0100
TZNAME:Europe/Berlin CET
END:STANDARD
BEGIN:STANDARD
DTSTART:20261025T020000
RDATE:20270328T030000
TZOFFSETFROM:+0200
TZOFFSETTO:+0100
TZNAME:Europe/Berlin CET
END:STANDARD
BEGIN:DAYLIGHT
DTSTART:20240331T030000
RDATE:20241027T020000
TZOFFSETFROM:+0100
TZOFFSETTO:+0200
TZNAME:Europe/Berlin CEST
END:DAYLIGHT
BEGIN:DAYLIGHT
DTSTART:20250330T030000
RDATE:20251026T020000
TZOFFSETFROM:+0100
TZOFFSETTO:+0200
TZNAME:Europe/Berlin CEST
END:DAYLIGHT
BEGIN:DAYLIGHT
DTSTART:20260329T030000
RDATE:20261025T020000
TZOFFSETFROM:+0100
TZOFFSETTO:+0200
TZNAME:Europe/Berlin CEST
END:DAYLIGHT
END:VTIMEZONE
BEGIN:VEVENT
UID:ebe6773d09e47a72da1bee48cf8c953e
CATEGORIES:Musikalische Vesper | "Klangzeit"
CREATED:20241011T190018
SUMMARY:"KLANGZEIT" zum Neujahrstag | BuxWV 71 || DREIKÖNIGSKIRECHE Frankfurt
LOCATION:: Dreikönigskirche Frankfurt (Sachsenhäuser Ufer | Eiserner Steg)
URL;VALUE=URI:https://www.kirchenmusik-dreikoenig.de/de/konzertprogramm-de/konzertkalende
 r/Eventdetail/254/-/klangzeit-zum-neujahrstag-buxwv-71-dreikoenigskireche-f
 rankfurt?tmpl=component
DESCRIPTION:<p style="text-align: left;"><strong>Mittwoch, 01.01.2025, 17:00 Uhr<br /><
 /strong>(Neujahr)<strong><br /><a title="Dreikönigskirche Frankfurt am Main
  (Sachsenhäuser Mainufer, Nähe Eiserner Steg)">Dreikönigskirche Frankfurt a
 m Main</a></strong></p><h4 style="text-align: left;"><strong><em>"Klangzeit
 "</em> zum Neujahrstag<br /></strong></h4><p style="text-align: left;"><str
 ong>Dietrich Buxtehude</strong> (c. 1637-1707)<br /><strong>"Lobe den Herrn
 , meine Seele"</strong> | BuxWV 71</p><p>Georg Poplutz | Tenor<br />Teleman
 n-Ensemble Frankfurt<br />Andreas Köhs | Leitung<br />Pfarrerin Johanna Ber
 gner | Liturgie</p><hr /> <a href="https://www.kirchenmusik-dreikoenig.de/d
 e/konzertprogramm-de/konzertkalender/Eventdetail/254/-/klangzeit-zum-neujah
 rstag-buxwv-71-dreikoenigskireche-frankfurt?tmpl=component">Dieser Event wu
 rde importiert von: https://www.kirchenmusik-dreikoenig.de/de/konzertprogra
 mm-de/konzertkalender/Eventdetail/254/-/klangzeit-zum-neujahrstag-buxwv-71-
 dreikoenigskireche-frankfurt?tmpl=component</a>DTSTAMP:20260419T141302
DTSTART;TZID=Europe/Berlin:20250101T170000
DTEND;TZID=Europe/Berlin:20250101T180000
SEQUENCE:0
TRANSP:OPAQUE
END:VEVENT
END:VCALENDAR