BEGIN:VCALENDAR
VERSION:2.0
PRODID:-//jEvents 2.0 for Joomla//EN
CALSCALE:GREGORIAN
METHOD:PUBLISH
BEGIN:VTIMEZONE
TZID:Europe/Berlin
BEGIN:STANDARD
DTSTART:20240202T110000
RDATE:20240331T030000
TZOFFSETFROM:+0200
TZOFFSETTO:+0100
TZNAME:Europe/Berlin CET
END:STANDARD
BEGIN:STANDARD
DTSTART:20241027T020000
RDATE:20250330T030000
TZOFFSETFROM:+0200
TZOFFSETTO:+0100
TZNAME:Europe/Berlin CET
END:STANDARD
BEGIN:STANDARD
DTSTART:20251026T020000
RDATE:20260329T030000
TZOFFSETFROM:+0200
TZOFFSETTO:+0100
TZNAME:Europe/Berlin CET
END:STANDARD
BEGIN:STANDARD
DTSTART:20261025T020000
RDATE:20270328T030000
TZOFFSETFROM:+0200
TZOFFSETTO:+0100
TZNAME:Europe/Berlin CET
END:STANDARD
BEGIN:DAYLIGHT
DTSTART:20240331T030000
RDATE:20241027T020000
TZOFFSETFROM:+0100
TZOFFSETTO:+0200
TZNAME:Europe/Berlin CEST
END:DAYLIGHT
BEGIN:DAYLIGHT
DTSTART:20250330T030000
RDATE:20251026T020000
TZOFFSETFROM:+0100
TZOFFSETTO:+0200
TZNAME:Europe/Berlin CEST
END:DAYLIGHT
BEGIN:DAYLIGHT
DTSTART:20260329T030000
RDATE:20261025T020000
TZOFFSETFROM:+0100
TZOFFSETTO:+0200
TZNAME:Europe/Berlin CEST
END:DAYLIGHT
END:VTIMEZONE
BEGIN:VEVENT
UID:885ad8c30658b532e49153d93584c110
CATEGORIES:Kantatengottesdienst
CREATED:20241011T190315
SUMMARY:KANTATENGOTTESDIENST | BWV 81 || DREIKÖNIGSKIRCHE
LOCATION:: Dreikönigskirche Frankfurt am Main (Sachsenhäuser Ufer | Nähe Eiserner St
 eg)
URL;VALUE=URI:https://www.kirchenmusik-dreikoenig.de/de/konzertprogramm-de/konzertkalende
 r/Eventdetail/256/-/kantatengottesdienst-bwv-81-dreikoenigskirche?tmpl=comp
 onent
DESCRIPTION:Sonntag, 02.02.2025, 11:00 Uhr\n(Letzter Sonntag nach Epiphanias)\nDreiköni
 gskirche Frankfurt am Main\nKantatengottesdienstJohann Sebastian Bach (1685
 -1750)\n"Jesus schläft, was soll ich hoffen" | BWV 81\n Dieser Event wurde 
 importiert von: https://www.kirchenmusik-dreikoenig.de/de/konzertprogramm-d
 e/konzertkalender/Eventdetail/256/-/kantatengottesdienst-bwv-81-dreikoenigs
 kirche?tmpl=component
X-ALT-DESC;FMTTYPE=text/html:<p style="text-align: left;"><strong>Sonntag, 02.02.2025, 11:00 Uhr<br /></
 strong>(Letzter Sonntag nach Epiphanias)<strong><br /><a title="Dreikönigsk
 irche Frankfurt am Main (Sachsenhäuser Mainufer, Nähe Eiserner Steg)">Dreik
 önigskirche Frankfurt am Main</a></strong></p><h4 style="text-align: left;"
 ><strong>Kantatengottesdienst</strong></h4><p style="text-align: left;"><st
 rong>J</strong><strong>ohann Sebastian Bach </strong>(1685-1750)<br /><stro
 ng>"Jesus schläft, was soll ich hoffen"</strong> | BWV 81</p><hr /> <a href
 ="https://www.kirchenmusik-dreikoenig.de/de/konzertprogramm-de/konzertkalen
 der/Eventdetail/256/-/kantatengottesdienst-bwv-81-dreikoenigskirche?tmpl=co
 mponent">Dieser Event wurde importiert von: https://www.kirchenmusik-dreiko
 enig.de/de/konzertprogramm-de/konzertkalender/Eventdetail/256/-/kantatengot
 tesdienst-bwv-81-dreikoenigskirche?tmpl=component</a>DTSTAMP:20260419T163423
DTSTART;TZID=Europe/Berlin:20250202T110000
DTEND;TZID=Europe/Berlin:20250202T120000
SEQUENCE:0
TRANSP:OPAQUE
END:VEVENT
END:VCALENDAR