BEGIN:VCALENDAR
VERSION:2.0
PRODID:-//jEvents 2.0 for Joomla//EN
CALSCALE:GREGORIAN
METHOD:PUBLISH
BEGIN:VTIMEZONE
TZID:Europe/Berlin
BEGIN:STANDARD
DTSTART:20241027T020000
RDATE:20250330T030000
TZOFFSETFROM:+0200
TZOFFSETTO:+0100
TZNAME:Europe/Berlin CET
END:STANDARD
BEGIN:STANDARD
DTSTART:20251026T020000
RDATE:20260329T030000
TZOFFSETFROM:+0200
TZOFFSETTO:+0100
TZNAME:Europe/Berlin CET
END:STANDARD
BEGIN:STANDARD
DTSTART:20261025T020000
RDATE:20270328T030000
TZOFFSETFROM:+0200
TZOFFSETTO:+0100
TZNAME:Europe/Berlin CET
END:STANDARD
BEGIN:DAYLIGHT
DTSTART:20240628T110000
RDATE:20241027T020000
TZOFFSETFROM:+0100
TZOFFSETTO:+0200
TZNAME:Europe/Berlin CEST
END:DAYLIGHT
BEGIN:DAYLIGHT
DTSTART:20250330T030000
RDATE:20251026T020000
TZOFFSETFROM:+0100
TZOFFSETTO:+0200
TZNAME:Europe/Berlin CEST
END:DAYLIGHT
BEGIN:DAYLIGHT
DTSTART:20260329T030000
RDATE:20261025T020000
TZOFFSETFROM:+0100
TZOFFSETTO:+0200
TZNAME:Europe/Berlin CEST
END:DAYLIGHT
END:VTIMEZONE
BEGIN:VEVENT
UID:d324ba72276e4451b3f12df2839ea2bd
CATEGORIES:Kantatengottesdienst
CREATED:20241011T192354
SUMMARY:KANTATENGOTTESDIENST | J. Ph. Krieger || BERGKIRCHE Sachsenhausen
LOCATION:: Bergkirche F-Sachsenhausen\, Sachsenhäuser Landwehrweg 157\, 60598 Frankf
 urt
URL;VALUE=URI:https://www.kirchenmusik-dreikoenig.de/de/konzertprogramm-de/konzertkalende
 r/Eventdetail/267/-/kantatengottesdienst-j-ph-krieger-bergkirche-sachsenhau
 sen?tmpl=component
DESCRIPTION:<p style="text-align: left;"><strong>Sonntag, 29.06.2025, 11:00 Uhr <br /><
 /strong>(2. Sonntag nach Trinitatis)<strong><br /><a title="Bergkirche Fran
 kfurt-Sachsenhausen (Sachsenhäuser Landwehrweg 157, 60599 Frankfurt am Main
 )">Bergkirche Frankfurt am Main-Sachsenhausen</a></strong></p><h4 style="te
 xt-align: left;"><strong>Kantatengottesdienst&nbsp;</strong></h4><p style="
 text-align: left;"><strong>Johann Philipp Krieger </strong>(1649-1725)<stro
 ng><br />"Gott, man lobet dich in der Stille"</strong></p><hr /> <a href="h
 ttps://www.kirchenmusik-dreikoenig.de/de/konzertprogramm-de/konzertkalender
 /Eventdetail/267/-/kantatengottesdienst-j-ph-krieger-bergkirche-sachsenhaus
 en?tmpl=component">Dieser Event wurde importiert von: https://www.kirchenmu
 sik-dreikoenig.de/de/konzertprogramm-de/konzertkalender/Eventdetail/267/-/k
 antatengottesdienst-j-ph-krieger-bergkirche-sachsenhausen?tmpl=component</a
 >DTSTAMP:20260419T163634
DTSTART;TZID=Europe/Berlin:20250629T110000
DTEND;TZID=Europe/Berlin:20250629T120000
SEQUENCE:0
TRANSP:OPAQUE
END:VEVENT
END:VCALENDAR