BEGIN:VCALENDAR
VERSION:2.0
PRODID:-//jEvents 2.0 for Joomla//EN
CALSCALE:GREGORIAN
METHOD:PUBLISH
BEGIN:VTIMEZONE
TZID:Europe/Berlin
BEGIN:STANDARD
DTSTART:20241225T170000
RDATE:20250330T030000
TZOFFSETFROM:+0200
TZOFFSETTO:+0100
TZNAME:Europe/Berlin CET
END:STANDARD
BEGIN:STANDARD
DTSTART:20251026T020000
RDATE:20260329T030000
TZOFFSETFROM:+0200
TZOFFSETTO:+0100
TZNAME:Europe/Berlin CET
END:STANDARD
BEGIN:STANDARD
DTSTART:20261025T020000
RDATE:20270328T030000
TZOFFSETFROM:+0200
TZOFFSETTO:+0100
TZNAME:Europe/Berlin CET
END:STANDARD
BEGIN:DAYLIGHT
DTSTART:20250330T030000
RDATE:20251026T020000
TZOFFSETFROM:+0100
TZOFFSETTO:+0200
TZNAME:Europe/Berlin CEST
END:DAYLIGHT
BEGIN:DAYLIGHT
DTSTART:20260329T030000
RDATE:20261025T020000
TZOFFSETFROM:+0100
TZOFFSETTO:+0200
TZNAME:Europe/Berlin CEST
END:DAYLIGHT
END:VTIMEZONE
BEGIN:VEVENT
UID:bf2d4902b07c9140a0d580173e57f31f
CATEGORIES:Weihnachtskonzert
CREATED:20241011T193731
SUMMARY:WEIHNACHTSKONZERT 2025 || KURT-THOMAS-KAMMERCHOR || DREIKÖNIGSKIRCHE Frankfurt am Main
LOCATION:: Dreikönigskirche Frankfurt am Main (Sachsenhäuser Ufer | Nähe Eiserner St
 eg)
URL;VALUE=URI:https://www.kirchenmusik-dreikoenig.de/de/konzertprogramm-de/konzertkalende
 r/Eventdetail/277/-/weihnachtskonzert-2025-kurt-thomas-kammerchor-dreikoeni
 gskirche-frankfurt-am-main?tmpl=component
DESCRIPTION:Freitag, 26.12.2025, 17:00 Uhr\n(2. Weihnachtsfeiertag)\nDreikönigskirche F
 rankfurt am Main\nKonzert zum WeihnachtsfestWeihnachtliche Chor- und Orgelm
 usikKURT-THOMAS-KAMMERCHOR\nwww.kurt-thomas-kammerchor.de (http://www.kurt-
 thomas-kammerchor.de)Andreas Köhs | Leitung und Orgel\n Tickets: 15 EUR | e
 rmäßigt 10 EUR \n(nur Abendkasse | freie Platzwahl)\n Dieser Event wurde im
 portiert von: https://www.kirchenmusik-dreikoenig.de/de/konzertprogramm-de/
 konzertkalender/Eventdetail/277/-/weihnachtskonzert-2025-kurt-thomas-kammer
 chor-dreikoenigskirche-frankfurt-am-main?tmpl=component (https://www.kirche
 nmusik-dreikoenig.de/de/konzertprogramm-de/konzertkalender/Eventdetail/277/
 -/weihnachtskonzert-2025-kurt-thomas-kammerchor-dreikoenigskirche-frankfurt
 -am-main?tmpl=component)
X-ALT-DESC;FMTTYPE=text/html:<p style="text-align: left;"><strong>Freitag, 26.12.2025, 17:00 Uhr</strong
 ><br />(2. Weihnachtsfeiertag)<br /><strong><a title="Dreikönigskirche Fran
 kfurt am Main (Sachsenhäuser Mainufer, Nähe Eiserner Steg)">Dreikönigskirch
 e Frankfurt am Main</a></strong></p><h4 style="text-align: left;"><strong>K
 onzert zum Weihnachtsfest</strong></h4><h5 style="text-align: left;"><stron
 g>Weihnachtliche Chor- und Orgelmusik</strong></h5><p style="text-align: le
 ft;"><strong>KURT-THOMAS-KAMMERCHOR</strong><br /><a href="http://www.kurt-
 thomas-kammerchor.de" target="_blank" rel="alternate noopener noreferrer" t
 itle="www.kurt-thomas-kammerchor.de">www.kurt-thomas-kammerchor.de</a><stro
 ng>Andreas Köhs</strong> | Leitung und Orgel</p><p style="text-align: left;
 "><i class="fas fa-ticket"></i> Tickets: 15 EUR | ermäßigt 10 EUR <br />(nu
 r Abendkasse | freie Platzwahl)</p><hr /> <a href="https://www.kirchenmusik
 -dreikoenig.de/de/konzertprogramm-de/konzertkalender/Eventdetail/277/-/weih
 nachtskonzert-2025-kurt-thomas-kammerchor-dreikoenigskirche-frankfurt-am-ma
 in?tmpl=component">Dieser Event wurde importiert von: https://www.kirchenmu
 sik-dreikoenig.de/de/konzertprogramm-de/konzertkalender/Eventdetail/277/-/w
 eihnachtskonzert-2025-kurt-thomas-kammerchor-dreikoenigskirche-frankfurt-am
 -main?tmpl=component</a>DTSTAMP:20260424T003438
DTSTART;TZID=Europe/Berlin:20251226T170000
DTEND;TZID=Europe/Berlin:20251226T183000
SEQUENCE:0
TRANSP:OPAQUE
END:VEVENT
END:VCALENDAR