BEGIN:VCALENDAR
VERSION:2.0
PRODID:-//jEvents 2.0 for Joomla//EN
CALSCALE:GREGORIAN
METHOD:PUBLISH
BEGIN:VTIMEZONE
TZID:Europe/Berlin
BEGIN:STANDARD
DTSTART:20240307T170000
RDATE:20240331T030000
TZOFFSETFROM:+0200
TZOFFSETTO:+0100
TZNAME:Europe/Berlin CET
END:STANDARD
BEGIN:STANDARD
DTSTART:20241027T020000
RDATE:20250330T030000
TZOFFSETFROM:+0200
TZOFFSETTO:+0100
TZNAME:Europe/Berlin CET
END:STANDARD
BEGIN:STANDARD
DTSTART:20251026T020000
RDATE:20260329T030000
TZOFFSETFROM:+0200
TZOFFSETTO:+0100
TZNAME:Europe/Berlin CET
END:STANDARD
BEGIN:STANDARD
DTSTART:20261025T020000
RDATE:20270328T030000
TZOFFSETFROM:+0200
TZOFFSETTO:+0100
TZNAME:Europe/Berlin CET
END:STANDARD
BEGIN:DAYLIGHT
DTSTART:20240331T030000
RDATE:20241027T020000
TZOFFSETFROM:+0100
TZOFFSETTO:+0200
TZNAME:Europe/Berlin CEST
END:DAYLIGHT
BEGIN:DAYLIGHT
DTSTART:20250330T030000
RDATE:20251026T020000
TZOFFSETFROM:+0100
TZOFFSETTO:+0200
TZNAME:Europe/Berlin CEST
END:DAYLIGHT
BEGIN:DAYLIGHT
DTSTART:20260329T030000
RDATE:20261025T020000
TZOFFSETFROM:+0100
TZOFFSETTO:+0200
TZNAME:Europe/Berlin CEST
END:DAYLIGHT
END:VTIMEZONE
BEGIN:VEVENT
UID:22e6e9ff04a91eae53b20e83a9f1c370
CATEGORIES:Musikalische Vesper | "Klangzeit"
CREATED:20241011T194205
SUMMARY:"KLANGZEIT" zur Passionszeit || DREIKÖNIGSKIRCHE Frankfurt
LOCATION:: Dreikönigskirche Frankfurt (Sachsenhäuser Ufer | Eiserner Steg)
URL;VALUE=URI:https://www.kirchenmusik-dreikoenig.de/de/konzertprogramm-de/konzertkalende
 r/Eventdetail/281/-/klangzeit-zur-passionszeit-dreikoenigskirche-frankfurt?
 tmpl=component
DESCRIPTION:Samstag, 08.03.2025, 17:00 Uhr\nDreikönigskirche Frankfurt am Main\n"Klangz
 eit" zur Passionszeit\nJugend-Geigertrio\nPfarrerin Stephanie Bohn | Liturg
 ie\n Dieser Event wurde importiert von: https://www.kirchenmusik-dreikoenig
 .de/de/konzertprogramm-de/konzertkalender/Eventdetail/281/-/klangzeit-zur-p
 assionszeit-dreikoenigskirche-frankfurt?tmpl=component
X-ALT-DESC;FMTTYPE=text/html:<p style="text-align: left;"><strong>Samstag, 08.03.2025, 17:00 Uhr</strong
 ><strong><br /><a title="Dreikönigskirche Frankfurt am Main (Sachsenhäuser 
 Mainufer, Nähe Eiserner Steg)">Dreikönigskirche Frankfurt am Main</a></stro
 ng></p><h4 style="text-align: left;"><strong><em>"Klangzeit"</em> zur Passi
 onszeit<br /></strong></h4><p>Jugend-Geigertrio<br />Pfarrerin Stephanie Bo
 hn | Liturgie</p><hr /> <a href="https://www.kirchenmusik-dreikoenig.de/de/
 konzertprogramm-de/konzertkalender/Eventdetail/281/-/klangzeit-zur-passions
 zeit-dreikoenigskirche-frankfurt?tmpl=component">Dieser Event wurde importi
 ert von: https://www.kirchenmusik-dreikoenig.de/de/konzertprogramm-de/konze
 rtkalender/Eventdetail/281/-/klangzeit-zur-passionszeit-dreikoenigskirche-f
 rankfurt?tmpl=component</a>DTSTAMP:20260423T220100
DTSTART;TZID=Europe/Berlin:20250308T170000
DTEND;TZID=Europe/Berlin:20250308T180000
SEQUENCE:0
TRANSP:OPAQUE
END:VEVENT
END:VCALENDAR