BEGIN:VCALENDAR
VERSION:2.0
PRODID:-//jEvents 2.0 for Joomla//EN
CALSCALE:GREGORIAN
METHOD:PUBLISH
BEGIN:VTIMEZONE
TZID:Europe/Berlin
BEGIN:STANDARD
DTSTART:20250328T170000
RDATE:20250330T030000
TZOFFSETFROM:+0200
TZOFFSETTO:+0100
TZNAME:Europe/Berlin CET
END:STANDARD
BEGIN:STANDARD
DTSTART:20251026T020000
RDATE:20260329T030000
TZOFFSETFROM:+0200
TZOFFSETTO:+0100
TZNAME:Europe/Berlin CET
END:STANDARD
BEGIN:STANDARD
DTSTART:20261025T020000
RDATE:20270328T030000
TZOFFSETFROM:+0200
TZOFFSETTO:+0100
TZNAME:Europe/Berlin CET
END:STANDARD
BEGIN:DAYLIGHT
DTSTART:20250330T030000
RDATE:20251026T020000
TZOFFSETFROM:+0100
TZOFFSETTO:+0200
TZNAME:Europe/Berlin CEST
END:DAYLIGHT
BEGIN:DAYLIGHT
DTSTART:20260329T030000
RDATE:20261025T020000
TZOFFSETFROM:+0100
TZOFFSETTO:+0200
TZNAME:Europe/Berlin CEST
END:DAYLIGHT
END:VTIMEZONE
BEGIN:VEVENT
UID:00f1488955828902d6c4d9ab20f91d0d
CATEGORIES:Oratorienkonzert zur Passion
CREATED:20251106T160941
SUMMARY:MOZART | REQUIEM || DREIKÖNIGSKIRCHE || KURT-THOMAS-KAMMERCHOR
LOCATION:: Dreikönigskirche Frankfurt am Main (Sachsenhäuser Ufer | Nähe Eiserner St
 eg)
URL;VALUE=URI:https://www.kirchenmusik-dreikoenig.de/de/konzertprogramm-de/konzertkalende
 r/Eventdetail/295/-/mozart-requiem-dreikoenigskirche-kurt-thomas-kammerchor
 ?tmpl=component
DESCRIPTION:<p style="text-align: left;"><strong>Sonntag, 29.03.2026, 18:00 Uhr<br /></
 strong>(Palmsonntag)<strong><br /><a title="Dreikönigskirche Frankfurt am M
 ain (Sachsenhäuser Mainufer, Nähe Eiserner Steg)">Dreikönigskirche Frankfur
 t am Main</a></strong></p><h4 style="text-align: left;"><strong>Wolfgang Am
 adeus Mozart </strong>(1756-1791)&nbsp;<br /><strong>Requiem&nbsp;</strong>
 | KV 626</h4><h5 style="text-align: left;"><strong>Georg Friedrich Händel</
 strong> (1685-1759)<br /><strong>Funeral Anthem for Queen Caroline</strong>
  | HWV 264</h5><p style="text-align: left;"><strong>Linda Bennett</strong> 
 | Sopran<br /><strong>Julia Diefenbach</strong> | Alt<br /><strong>Timm Sch
 uhmacher</strong> | Tenor<br /><strong>Emanuel Fluck</strong> | Bass</p><p 
 style="text-align: left;"><strong>Kurt-Thomas-Kammerchor</strong><br /><a h
 ref="http://www.kurt-thomas-kammerchor.de" target="_blank" rel="alternate n
 oopener noreferrer" title="www.kurt-thomas-kammerchor.de">www.kurt-thomas-k
 ammerchor.de</a><br /><strong>Telemann-Ensemble Frankfurt</strong><br /><st
 rong>Andreas Köhs</strong> | Leitung<br /><a href="https://www.andreas-koeh
 s.de" target="_blank" rel="noopener" title="www.andreas-koehs.de">www.andre
 as-koehs.de</a></p><p style="text-align: left;"><strong><i class="fas fa-ti
 cket"></i> Tickets</strong>: 30 EUR, ermäßigt 20 EUR (Abendkasse)<br /><str
 ong><i class="fas fa-ticket"></i> Ticketsvorverkauf:&nbsp;</strong> via Fra
 nkfurt-Ticket RheinMain (zzgl. Vorverkaufsgebühr):<br /><strong><a href="ht
 tps://www.frankfurtticket.de/tickets/wolfgang-amadeus-mozart-requiem-kv-626
 -8956.75467/" target="_blank" rel="noopener" class="btn btn-sm btn-primary"
  title="Ticket-Online: MOZART | REQUIEM | Palmsonntag, 29.03.2026 | 18:00 U
 hr | Dreikönigskirche || via Frankfurt-Ticket RheinMain (zzgl. Vorverkaufsg
 ebühr)">Ticket-Online: MOZART | REQUIEM | Palmsonntag, 29.03.2026 | 18:00 U
 hr | Dreikönigskirche</a></strong></p><p>&nbsp;</p><p>&nbsp;</p><hr /> <a h
 ref="https://www.kirchenmusik-dreikoenig.de/de/konzertprogramm-de/konzertka
 lender/Eventdetail/295/-/mozart-requiem-dreikoenigskirche-kurt-thomas-kamme
 rchor?tmpl=component">Dieser Event wurde importiert von: https://www.kirche
 nmusik-dreikoenig.de/de/konzertprogramm-de/konzertkalender/Eventdetail/295/
 -/mozart-requiem-dreikoenigskirche-kurt-thomas-kammerchor?tmpl=component</a
 >DTSTAMP:20260424T123918
DTSTART;TZID=Europe/Berlin:20260329T180000
DTEND;TZID=Europe/Berlin:20260329T200000
SEQUENCE:0
TRANSP:OPAQUE
END:VEVENT
END:VCALENDAR