BEGIN:VCALENDAR
VERSION:2.0
PRODID:-//jEvents 2.0 for Joomla//EN
CALSCALE:GREGORIAN
METHOD:PUBLISH
BEGIN:VTIMEZONE
TZID:Europe/Berlin
BEGIN:STANDARD
DTSTART:20251026T020000
RDATE:20260329T030000
TZOFFSETFROM:+0200
TZOFFSETTO:+0100
TZNAME:Europe/Berlin CET
END:STANDARD
BEGIN:STANDARD
DTSTART:20261025T020000
RDATE:20270328T030000
TZOFFSETFROM:+0200
TZOFFSETTO:+0100
TZNAME:Europe/Berlin CET
END:STANDARD
BEGIN:DAYLIGHT
DTSTART:20250912T110000
RDATE:20251026T020000
TZOFFSETFROM:+0100
TZOFFSETTO:+0200
TZNAME:Europe/Berlin CEST
END:DAYLIGHT
BEGIN:DAYLIGHT
DTSTART:20260329T030000
RDATE:20261025T020000
TZOFFSETFROM:+0100
TZOFFSETTO:+0200
TZNAME:Europe/Berlin CEST
END:DAYLIGHT
END:VTIMEZONE
BEGIN:VEVENT
UID:5c771233e4927b0d549ebed97df3529b
CATEGORIES:Kantatengottesdienst
CREATED:20251106T162740
SUMMARY:KANTATENGOTTESDIENST | J. Ph. Krieger || ERLÖSERGEMEINDE Frankfurt-Oberrad
LOCATION:: Erlöserkirche Oberrad (Melanchthonplatz\, 60599 Frankfurt-Oberrad)
URL;VALUE=URI:https://www.kirchenmusik-dreikoenig.de/de/konzertprogramm-de/konzertkalende
 r/Eventdetail/307/-/kantatengottesdienst-j-ph-krieger-erloesergemeinde-fran
 kfurt-oberrad?tmpl=component
DESCRIPTION:Sonntag, 13.09.2026, 11:00 Uhr\n(4. Advent)\nEv.-Luth. Erlöserkirche Frankf
 urt am Main-Oberrad (https://erloesergemeinde-oberrad.ekhn.de/startseite.ht
 ml) \n(Melanchthonplatz, 60599 Frankfurt)\nKantatengottesdienstJohann Phili
 pp Krieger (1649-1725)\n"Benedicam Dominum" | Psalm 34\n Dieser Event wurde
  importiert von: https://www.kirchenmusik-dreikoenig.de/de/konzertprogramm-
 de/konzertkalender/Eventdetail/307/-/kantatengottesdienst-j-ph-krieger-erlo
 esergemeinde-frankfurt-oberrad?tmpl=component (https://www.kirchenmusik-dre
 ikoenig.de/de/konzertprogramm-de/konzertkalender/Eventdetail/307/-/kantaten
 gottesdienst-j-ph-krieger-erloesergemeinde-frankfurt-oberrad?tmpl=component
 )
X-ALT-DESC;FMTTYPE=text/html:<p style="text-align: left;"><strong>Sonntag, 13.09.2026, 11:00 Uhr</strong
 ><br />(4. Advent)<br /><strong><a href="https://erloesergemeinde-oberrad.e
 khn.de/startseite.html" target="_blank" rel="noopener noreferrer" title="Ev
 .-Luth. Erlöserkirche Frankfurt am Main-Oberrad (Melanchthonplatz, 60599 Fr
 ankfurt-Oberrad)">Ev.-Luth. Erlöserkirche Frankfurt am Main-Oberrad</a>&nbs
 p;<br /></strong>(Melanchthonplatz, 60599 Frankfurt)</p><h4 style="text-ali
 gn: left;"><strong>Kantatengottesdienst</strong></h4><p style="text-align: 
 left;"><strong>Johann Philipp Krieger&nbsp;</strong>(1649-1725)<br /><stron
 g>"Benedicam Dominum" </strong>| Psalm 34</p><hr /> <a href="https://www.ki
 rchenmusik-dreikoenig.de/de/konzertprogramm-de/konzertkalender/Eventdetail/
 307/-/kantatengottesdienst-j-ph-krieger-erloesergemeinde-frankfurt-oberrad?
 tmpl=component">Dieser Event wurde importiert von: https://www.kirchenmusik
 -dreikoenig.de/de/konzertprogramm-de/konzertkalender/Eventdetail/307/-/kant
 atengottesdienst-j-ph-krieger-erloesergemeinde-frankfurt-oberrad?tmpl=compo
 nent</a>DTSTAMP:20260419T163422
DTSTART;TZID=Europe/Berlin:20260913T110000
DTEND;TZID=Europe/Berlin:20260913T120000
SEQUENCE:0
TRANSP:OPAQUE
END:VEVENT
END:VCALENDAR