BEGIN:VCALENDAR
VERSION:2.0
PRODID:-//jEvents 2.0 for Joomla//EN
CALSCALE:GREGORIAN
METHOD:PUBLISH
BEGIN:VTIMEZONE
TZID:Europe/Berlin
BEGIN:STANDARD
DTSTART:20220311T100000
RDATE:20220327T030000
TZOFFSETFROM:+0200
TZOFFSETTO:+0100
TZNAME:Europe/Berlin CET
END:STANDARD
BEGIN:STANDARD
DTSTART:20221030T020000
RDATE:20230326T030000
TZOFFSETFROM:+0200
TZOFFSETTO:+0100
TZNAME:Europe/Berlin CET
END:STANDARD
BEGIN:STANDARD
DTSTART:20231029T020000
RDATE:20240331T030000
TZOFFSETFROM:+0200
TZOFFSETTO:+0100
TZNAME:Europe/Berlin CET
END:STANDARD
BEGIN:STANDARD
DTSTART:20241027T020000
RDATE:20250330T030000
TZOFFSETFROM:+0200
TZOFFSETTO:+0100
TZNAME:Europe/Berlin CET
END:STANDARD
BEGIN:STANDARD
DTSTART:20251026T020000
RDATE:20260329T030000
TZOFFSETFROM:+0200
TZOFFSETTO:+0100
TZNAME:Europe/Berlin CET
END:STANDARD
BEGIN:STANDARD
DTSTART:20261025T020000
RDATE:20270328T030000
TZOFFSETFROM:+0200
TZOFFSETTO:+0100
TZNAME:Europe/Berlin CET
END:STANDARD
BEGIN:DAYLIGHT
DTSTART:20220327T030000
RDATE:20221030T020000
TZOFFSETFROM:+0100
TZOFFSETTO:+0200
TZNAME:Europe/Berlin CEST
END:DAYLIGHT
BEGIN:DAYLIGHT
DTSTART:20230326T030000
RDATE:20231029T020000
TZOFFSETFROM:+0100
TZOFFSETTO:+0200
TZNAME:Europe/Berlin CEST
END:DAYLIGHT
BEGIN:DAYLIGHT
DTSTART:20240331T030000
RDATE:20241027T020000
TZOFFSETFROM:+0100
TZOFFSETTO:+0200
TZNAME:Europe/Berlin CEST
END:DAYLIGHT
BEGIN:DAYLIGHT
DTSTART:20250330T030000
RDATE:20251026T020000
TZOFFSETFROM:+0100
TZOFFSETTO:+0200
TZNAME:Europe/Berlin CEST
END:DAYLIGHT
BEGIN:DAYLIGHT
DTSTART:20260329T030000
RDATE:20261025T020000
TZOFFSETFROM:+0100
TZOFFSETTO:+0200
TZNAME:Europe/Berlin CEST
END:DAYLIGHT
END:VTIMEZONE
BEGIN:VEVENT
UID:3dd98097095d3b31e300be6f9fbcaeb9
CATEGORIES:Kantatengottesdienst
CREATED:20230101T154004
SUMMARY:KANTATENGOTTESDIENST | BWV 54 || ERLÖSERGEMEINDE Frankfurt-Oberrad
LOCATION:: Gemeindehaus der Erlösergemeinde Oberrad (Wiener Straße 23\, 60599 Frankf
 urt-Oberrad)
URL;VALUE=URI:https://www.kirchenmusik-dreikoenig.de/de/konzertprogramm/konzertkalender/E
 ventdetail/172/-/kantatengottesdienst-bwv-54-erloesergemeinde-frankfurt-obe
 rrad?tmpl=component
DESCRIPTION:Sonntag, 12.03.2023, 10:00 Uhr,\n(Oculi)\nGemeindehaus der Ev.-Luth. Erlöse
 rgemeinde Frankfurt am Main-Oberrad (https://erloesergemeinde-oberrad.ekhn.
 de/startseite.html)\n(Wiener Straße 23, 60599 Frankfurt)\nKantatengottesdie
 nst \n\nJohann Sebastian Bach (1685-1750)\n"Widerstehe doch der Sünde" | BW
 V 54\nJulia Diefenbach | Alt\nTelemann-Ensemble Frankfurt\nAndreas Köhs | L
 eitung und Truhenorgel\nPfarrerin Anne-Katrin Helms | Liturgie und Predigt 
 \n Dieser Event wurde importiert von: https://www.kirchenmusik-dreikoenig.d
 e/de/konzertprogramm/konzertkalender/Eventdetail/172/-/kantatengottesdienst
 -bwv-54-erloesergemeinde-frankfurt-oberrad?tmpl=component
X-ALT-DESC;FMTTYPE=text/html:<p style="text-align: left;"><strong>Sonntag, 12.03.2023, 10:00 Uhr,</stron
 g><br />(Oculi)<strong><br /><span style="color: #ff00ff;"><a style="color:
  #ff00ff;" title="Gemeindehaus der Ev.-Luth. Erlösergemeinde Frankfurt am M
 ain-Oberrad (Wiener Straße 23, 60599 Frankfurt-Oberrad)" href="https://erlo
 esergemeinde-oberrad.ekhn.de/startseite.html" target="_blank" rel="noopener
  noreferrer">Gemeindehaus der Ev.-Luth. Erlösergemeinde Frankfurt am Main-O
 berrad</a></span><a title="Gemeindehaus der Ev.-Luth. Erlösergemeinde Frank
 furt am Main-Oberrad (Wiener Straße 23, 60499 Frankfurt)"><br /></a></stron
 g>(Wiener Straße 23, 60599 Frankfurt)</p><p style="text-align: left;"><stro
 ng>Kantatengottesdienst <br /></strong><br /><strong>Johann Sebastian Bach 
 </strong>(1685-1750)<br /><strong>"Widerstehe doch der Sünde" </strong>| BW
 V 54</p><p style="text-align: left;">Julia Diefenbach | Alt<br />Telemann-E
 nsemble Frankfurt<br />Andreas Köhs | Leitung und Truhenorgel<br />Pfarreri
 n Anne-Katrin Helms | Liturgie und Predigt </p> <a href="https://www.kirche
 nmusik-dreikoenig.de/de/konzertprogramm/konzertkalender/Eventdetail/172/-/k
 antatengottesdienst-bwv-54-erloesergemeinde-frankfurt-oberrad?tmpl=componen
 t">Dieser Event wurde importiert von: https://www.kirchenmusik-dreikoenig.d
 e/de/konzertprogramm/konzertkalender/Eventdetail/172/-/kantatengottesdienst
 -bwv-54-erloesergemeinde-frankfurt-oberrad?tmpl=component</a>DTSTAMP:20260425T020350
DTSTART;TZID=Europe/Berlin:20230312T100000
DTEND;TZID=Europe/Berlin:20230312T110000
SEQUENCE:0
TRANSP:OPAQUE
END:VEVENT
END:VCALENDAR