BEGIN:VCALENDAR
VERSION:2.0
PRODID:-//jEvents 2.0 for Joomla//EN
CALSCALE:GREGORIAN
METHOD:PUBLISH
BEGIN:VTIMEZONE
TZID:Europe/Berlin
BEGIN:STANDARD
DTSTART:20221030T020000
RDATE:20230326T030000
TZOFFSETFROM:+0200
TZOFFSETTO:+0100
TZNAME:Europe/Berlin CET
END:STANDARD
BEGIN:STANDARD
DTSTART:20231029T020000
RDATE:20240331T030000
TZOFFSETFROM:+0200
TZOFFSETTO:+0100
TZNAME:Europe/Berlin CET
END:STANDARD
BEGIN:STANDARD
DTSTART:20241027T020000
RDATE:20250330T030000
TZOFFSETFROM:+0200
TZOFFSETTO:+0100
TZNAME:Europe/Berlin CET
END:STANDARD
BEGIN:STANDARD
DTSTART:20251026T020000
RDATE:20260329T030000
TZOFFSETFROM:+0200
TZOFFSETTO:+0100
TZNAME:Europe/Berlin CET
END:STANDARD
BEGIN:STANDARD
DTSTART:20261025T020000
RDATE:20270328T030000
TZOFFSETFROM:+0200
TZOFFSETTO:+0100
TZNAME:Europe/Berlin CET
END:STANDARD
BEGIN:DAYLIGHT
DTSTART:20220406T150000
RDATE:20221030T020000
TZOFFSETFROM:+0100
TZOFFSETTO:+0200
TZNAME:Europe/Berlin CEST
END:DAYLIGHT
BEGIN:DAYLIGHT
DTSTART:20230326T030000
RDATE:20231029T020000
TZOFFSETFROM:+0100
TZOFFSETTO:+0200
TZNAME:Europe/Berlin CEST
END:DAYLIGHT
BEGIN:DAYLIGHT
DTSTART:20240331T030000
RDATE:20241027T020000
TZOFFSETFROM:+0100
TZOFFSETTO:+0200
TZNAME:Europe/Berlin CEST
END:DAYLIGHT
BEGIN:DAYLIGHT
DTSTART:20250330T030000
RDATE:20251026T020000
TZOFFSETFROM:+0100
TZOFFSETTO:+0200
TZNAME:Europe/Berlin CEST
END:DAYLIGHT
BEGIN:DAYLIGHT
DTSTART:20260329T030000
RDATE:20261025T020000
TZOFFSETFROM:+0100
TZOFFSETTO:+0200
TZNAME:Europe/Berlin CEST
END:DAYLIGHT
END:VTIMEZONE
BEGIN:VEVENT
UID:9a8b825c24186a20f37488900c402ac2
CATEGORIES:Instrumentalkonzert
CREATED:20230116T205734
SUMMARY:MUSIKALISCHE ANDACHT zum KARFREITAG || DREIKÖNIGSKIRCHE
LOCATION::   Dreikönigskirche Frankfurt am Main\, Sachsenhäuser Ufer / Nähe Eiserner
  Steg
URL;VALUE=URI:https://www.kirchenmusik-dreikoenig.de/de/konzertprogramm/konzertkalender/E
 ventdetail/176/-/musikalische-andacht-zum-karfreitag-dreikoenigskirche?tmpl
 =component
DESCRIPTION:<p style="text-align: left;"><strong>Karfreitag, 07.04.2023, 15:00 Uhr, <br
  /><a title="Dreikönigskirche Frankfurt am Main (Sachsenhäuser Mainufer, Nä
 he Eiserner Steg)">Dreikönigskirche Frankfurt am Main</a></strong></p><p st
 yle="text-align: left;"><strong>Andacht zur Todesstunde Jesu</strong><br />
 <strong>"Die Sieben Worte Jesu Christi am Kreuz"</strong></p><p>Petra Köhs 
 | Violoncello<br />Andreas Köhs | Orgel<br />Pfarrer Jürgen Seidl | Liturgi
 e und Lesung</p><p> </p><hr /><hr /> <a href="https://www.kirchenmusik-drei
 koenig.de/de/konzertprogramm/konzertkalender/Eventdetail/176/-/musikalische
 -andacht-zum-karfreitag-dreikoenigskirche?tmpl=component">Dieser Event wurd
 e importiert von: https://www.kirchenmusik-dreikoenig.de/de/konzertprogramm
 /konzertkalender/Eventdetail/176/-/musikalische-andacht-zum-karfreitag-drei
 koenigskirche?tmpl=component</a>DTSTAMP:20260425T003132
DTSTART;TZID=Europe/Berlin:20230407T150000
DTEND;TZID=Europe/Berlin:20230407T160000
SEQUENCE:0
TRANSP:OPAQUE
END:VEVENT
END:VCALENDAR