BEGIN:VCALENDAR
VERSION:2.0
PRODID:-//jEvents 2.0 for Joomla//EN
CALSCALE:GREGORIAN
METHOD:PUBLISH
BEGIN:VTIMEZONE
TZID:Europe/Berlin
BEGIN:STANDARD
DTSTART:20230203T110000
RDATE:20230326T030000
TZOFFSETFROM:+0200
TZOFFSETTO:+0100
TZNAME:Europe/Berlin CET
END:STANDARD
BEGIN:STANDARD
DTSTART:20231029T020000
RDATE:20240331T030000
TZOFFSETFROM:+0200
TZOFFSETTO:+0100
TZNAME:Europe/Berlin CET
END:STANDARD
BEGIN:STANDARD
DTSTART:20241027T020000
RDATE:20250330T030000
TZOFFSETFROM:+0200
TZOFFSETTO:+0100
TZNAME:Europe/Berlin CET
END:STANDARD
BEGIN:STANDARD
DTSTART:20251026T020000
RDATE:20260329T030000
TZOFFSETFROM:+0200
TZOFFSETTO:+0100
TZNAME:Europe/Berlin CET
END:STANDARD
BEGIN:STANDARD
DTSTART:20261025T020000
RDATE:20270328T030000
TZOFFSETFROM:+0200
TZOFFSETTO:+0100
TZNAME:Europe/Berlin CET
END:STANDARD
BEGIN:DAYLIGHT
DTSTART:20230326T030000
RDATE:20231029T020000
TZOFFSETFROM:+0100
TZOFFSETTO:+0200
TZNAME:Europe/Berlin CEST
END:DAYLIGHT
BEGIN:DAYLIGHT
DTSTART:20240331T030000
RDATE:20241027T020000
TZOFFSETFROM:+0100
TZOFFSETTO:+0200
TZNAME:Europe/Berlin CEST
END:DAYLIGHT
BEGIN:DAYLIGHT
DTSTART:20250330T030000
RDATE:20251026T020000
TZOFFSETFROM:+0100
TZOFFSETTO:+0200
TZNAME:Europe/Berlin CEST
END:DAYLIGHT
BEGIN:DAYLIGHT
DTSTART:20260329T030000
RDATE:20261025T020000
TZOFFSETFROM:+0100
TZOFFSETTO:+0200
TZNAME:Europe/Berlin CEST
END:DAYLIGHT
END:VTIMEZONE
BEGIN:VEVENT
UID:372add2274b02985bde160a7d0fcbf55
CATEGORIES:Kantatengottesdienst
CREATED:20231231T161436
SUMMARY:KANTATENGOTTESDIENST | BWV 55 || ERLÖSERGEMEINDE Frankfurt-Oberrad
LOCATION:: Erlösergemeinde Oberrad (Wiener Straße 23\, 60599 Frankfurt-Oberrad)
URL;VALUE=URI:https://www.kirchenmusik-dreikoenig.de/de/konzertprogramm/konzertkalender/E
 ventdetail/223/-/kantatengottesdienst-bwv-55-erloesergemeinde-frankfurt-obe
 rrad?tmpl=component
DESCRIPTION:<p style="text-align: left;"><strong>Sonntag, 04.02.2024, 11:00 Uhr</strong
 ><br />(Sexagesimae)<strong><br /><a href="https://erloesergemeinde-oberrad
 .ekhn.de/startseite.html" target="_blank" rel="noopener noreferrer" title="
 Ev.-Luth. Erlösergemeinde Frankfurt am Main-Oberrad (Wiener Straße 23, 6059
 9 Frankfurt-Oberrad)">Ev.-Luth. Erlösergemeinde Frankfurt am Main-Oberrad</
 a><a title="Gemeindehaus der Ev.-Luth. Erlösergemeinde Frankfurt am Main-Ob
 errad (Wiener Straße 23, 60499 Frankfurt)"><br /></a></strong>(Wiener Straß
 e 23, 60599 Frankfurt)</p><h4 style="text-align: left;"><strong>Kantatengot
 tesdienst&nbsp;</strong></h4><p style="text-align: left;"><strong>Johann Se
 bastian Bach&nbsp;</strong>(1685-1750)<br /><strong>"Ich armer Mensch, ich 
 Sündenknecht" </strong>| BWV 55<br />Christian Rathgeber | Tenor<br />Telem
 ann-Ensemble Frankfurt<br />Andreas Köhs | Leitung und Truhenorgel<br />Pfa
 rrerin Anne-Katrin Helms | Liturgie und Predigt</p><p style="text-align: le
 ft;">&nbsp;</p><hr /> <a href="https://www.kirchenmusik-dreikoenig.de/de/ko
 nzertprogramm/konzertkalender/Eventdetail/223/-/kantatengottesdienst-bwv-55
 -erloesergemeinde-frankfurt-oberrad?tmpl=component">Dieser Event wurde impo
 rtiert von: https://www.kirchenmusik-dreikoenig.de/de/konzertprogramm/konze
 rtkalender/Eventdetail/223/-/kantatengottesdienst-bwv-55-erloesergemeinde-f
 rankfurt-oberrad?tmpl=component</a>DTSTAMP:20260424T195223
DTSTART;TZID=Europe/Berlin:20240204T110000
DTEND;TZID=Europe/Berlin:20240204T120000
SEQUENCE:0
TRANSP:OPAQUE
END:VEVENT
END:VCALENDAR