BEGIN:VCALENDAR
VERSION:2.0
PRODID:-//jEvents 2.0 for Joomla//EN
CALSCALE:GREGORIAN
METHOD:PUBLISH
BEGIN:VTIMEZONE
TZID:Europe/Berlin
BEGIN:STANDARD
DTSTART:20241027T020000
RDATE:20250330T030000
TZOFFSETFROM:+0200
TZOFFSETTO:+0100
TZNAME:Europe/Berlin CET
END:STANDARD
BEGIN:STANDARD
DTSTART:20251026T020000
RDATE:20260329T030000
TZOFFSETFROM:+0200
TZOFFSETTO:+0100
TZNAME:Europe/Berlin CET
END:STANDARD
BEGIN:STANDARD
DTSTART:20261025T020000
RDATE:20270328T030000
TZOFFSETFROM:+0200
TZOFFSETTO:+0100
TZNAME:Europe/Berlin CET
END:STANDARD
BEGIN:DAYLIGHT
DTSTART:20240417T150000
RDATE:20241027T020000
TZOFFSETFROM:+0100
TZOFFSETTO:+0200
TZNAME:Europe/Berlin CEST
END:DAYLIGHT
BEGIN:DAYLIGHT
DTSTART:20250330T030000
RDATE:20251026T020000
TZOFFSETFROM:+0100
TZOFFSETTO:+0200
TZNAME:Europe/Berlin CEST
END:DAYLIGHT
BEGIN:DAYLIGHT
DTSTART:20260329T030000
RDATE:20261025T020000
TZOFFSETFROM:+0100
TZOFFSETTO:+0200
TZNAME:Europe/Berlin CEST
END:DAYLIGHT
END:VTIMEZONE
BEGIN:VEVENT
UID:a9812e053c4bf773a38eab776e7ef4b7
CATEGORIES:Instrumentalkonzert
CREATED:20241011T191244
SUMMARY:MUSIKALISCHE ANDACHT zum KARFREITAG || DREIKÖNIGSKIRCHE
LOCATION::   Dreikönigskirche Frankfurt am Main\, Sachsenhäuser Ufer / Nähe Eiserner
  Steg
URL;VALUE=URI:https://www.kirchenmusik-dreikoenig.de/de/konzertprogramm/konzertkalender/E
 ventdetail/260/-/musikalische-andacht-zum-karfreitag-dreikoenigskirche?tmpl
 =component
DESCRIPTION:Karfreitag, 18.04.2025, 15:00 Uhr\n(Karfreitag)\nDreikönigskirche Frankfurt
  am Main\nMusikalische Andacht zur Todesstunde JesuPetra Köhs | Violoncello
 \nAndreas Köhs | Orgel\nPfarrer Thomas Reitz | Liturgie und Ansprache \n Di
 eser Event wurde importiert von: https://www.kirchenmusik-dreikoenig.de/de/
 konzertprogramm/konzertkalender/Eventdetail/260/-/musikalische-andacht-zum-
 karfreitag-dreikoenigskirche?tmpl=component (https://www.kirchenmusik-dreik
 oenig.de/de/konzertprogramm/konzertkalender/Eventdetail/260/-/musikalische-
 andacht-zum-karfreitag-dreikoenigskirche?tmpl=component)
X-ALT-DESC;FMTTYPE=text/html:<p style="text-align: left;"><strong>Karfreitag, 18.04.2025, 15:00 Uhr<br /
 ></strong>(Karfreitag)<strong><br /><a title="Dreikönigskirche Frankfurt am
  Main (Sachsenhäuser Mainufer, Nähe Eiserner Steg)">Dreikönigskirche Frankf
 urt am Main</a></strong></p><h4 style="text-align: left;"><strong>Musikalis
 che Andacht zur Todesstunde Jesu</strong></h4><p>Petra Köhs | Violoncello<b
 r />Andreas Köhs | Orgel<br />Pfarrer Thomas Reitz | Liturgie und Ansprache
  </p><hr /> <a href="https://www.kirchenmusik-dreikoenig.de/de/konzertprogr
 amm/konzertkalender/Eventdetail/260/-/musikalische-andacht-zum-karfreitag-d
 reikoenigskirche?tmpl=component">Dieser Event wurde importiert von: https:/
 /www.kirchenmusik-dreikoenig.de/de/konzertprogramm/konzertkalender/Eventdet
 ail/260/-/musikalische-andacht-zum-karfreitag-dreikoenigskirche?tmpl=compon
 ent</a>DTSTAMP:20260426T040357
DTSTART;TZID=Europe/Berlin:20250418T150000
DTEND;TZID=Europe/Berlin:20250418T160000
SEQUENCE:0
TRANSP:OPAQUE
END:VEVENT
END:VCALENDAR