BEGIN:VCALENDAR
VERSION:2.0
PRODID:-//jEvents 2.0 for Joomla//EN
CALSCALE:GREGORIAN
METHOD:PUBLISH
BEGIN:VTIMEZONE
TZID:Europe/Berlin
BEGIN:STANDARD
DTSTART:20241115T110000
RDATE:20250330T030000
TZOFFSETFROM:+0200
TZOFFSETTO:+0100
TZNAME:Europe/Berlin CET
END:STANDARD
BEGIN:STANDARD
DTSTART:20251026T020000
RDATE:20260329T030000
TZOFFSETFROM:+0200
TZOFFSETTO:+0100
TZNAME:Europe/Berlin CET
END:STANDARD
BEGIN:STANDARD
DTSTART:20261025T020000
RDATE:20270328T030000
TZOFFSETFROM:+0200
TZOFFSETTO:+0100
TZNAME:Europe/Berlin CET
END:STANDARD
BEGIN:DAYLIGHT
DTSTART:20250330T030000
RDATE:20251026T020000
TZOFFSETFROM:+0100
TZOFFSETTO:+0200
TZNAME:Europe/Berlin CEST
END:DAYLIGHT
BEGIN:DAYLIGHT
DTSTART:20260329T030000
RDATE:20261025T020000
TZOFFSETFROM:+0100
TZOFFSETTO:+0200
TZNAME:Europe/Berlin CEST
END:DAYLIGHT
END:VTIMEZONE
BEGIN:VEVENT
UID:789c59647d07503fd42e3cc149e450a8
CATEGORIES:Kantatengottesdienst
CREATED:20241011T193154
SUMMARY:KANTATENGOTTESDIENST | J. Ph. Krieger || DREIKÖNIGSKIRCHE
LOCATION:: Dreikönigskirche Frankfurt am Main (Sachsenhäuser Ufer | Nähe Eiserner St
 eg)
URL;VALUE=URI:https://www.kirchenmusik-dreikoenig.de/de/konzertprogramm/konzertkalender/E
 ventdetail/274/-/kantatengottesdienst-j-ph-krieger-dreikoenigskirche?tmpl=c
 omponent
DESCRIPTION:<p style="text-align: left;"><strong>Sonntag, 16.11.2025, 11:00 Uhr</strong
 ><br />(Vorletzter Sonntag des Kirchenjahres)<br /><strong><a title="Dreikö
 nigskirche Frankfurt am Main (Sachsenhäuser Mainufer, Nähe Eiserner Steg)">
 Dreikönigskirche Frankfurt am Main</a></strong></p><h4 style="text-align: l
 eft;"><strong>Kantatengottesdienst&nbsp;</strong></h4><p style="text-align:
  left;"><strong>Johann Philipp Krieger</strong> (1649-1725)<br /><strong>"A
 ch Herr, wie sind meiner Feinde so viel"</strong></p><hr /> <a href="https:
 //www.kirchenmusik-dreikoenig.de/de/konzertprogramm/konzertkalender/Eventde
 tail/274/-/kantatengottesdienst-j-ph-krieger-dreikoenigskirche?tmpl=compone
 nt">Dieser Event wurde importiert von: https://www.kirchenmusik-dreikoenig.
 de/de/konzertprogramm/konzertkalender/Eventdetail/274/-/kantatengottesdiens
 t-j-ph-krieger-dreikoenigskirche?tmpl=component</a>DTSTAMP:20260423T082607
DTSTART;TZID=Europe/Berlin:20251116T110000
DTEND;TZID=Europe/Berlin:20251116T120000
SEQUENCE:0
TRANSP:OPAQUE
END:VEVENT
END:VCALENDAR