BEGIN:VCALENDAR
VERSION:2.0
PRODID:-//jEvents 2.0 for Joomla//EN
CALSCALE:GREGORIAN
METHOD:PUBLISH
BEGIN:VTIMEZONE
TZID:Europe/Berlin
BEGIN:STANDARD
DTSTART:20241220T110000
RDATE:20250330T030000
TZOFFSETFROM:+0200
TZOFFSETTO:+0100
TZNAME:Europe/Berlin CET
END:STANDARD
BEGIN:STANDARD
DTSTART:20251026T020000
RDATE:20260329T030000
TZOFFSETFROM:+0200
TZOFFSETTO:+0100
TZNAME:Europe/Berlin CET
END:STANDARD
BEGIN:STANDARD
DTSTART:20261025T020000
RDATE:20270328T030000
TZOFFSETFROM:+0200
TZOFFSETTO:+0100
TZNAME:Europe/Berlin CET
END:STANDARD
BEGIN:DAYLIGHT
DTSTART:20250330T030000
RDATE:20251026T020000
TZOFFSETFROM:+0100
TZOFFSETTO:+0200
TZNAME:Europe/Berlin CEST
END:DAYLIGHT
BEGIN:DAYLIGHT
DTSTART:20260329T030000
RDATE:20261025T020000
TZOFFSETFROM:+0100
TZOFFSETTO:+0200
TZNAME:Europe/Berlin CEST
END:DAYLIGHT
END:VTIMEZONE
BEGIN:VEVENT
UID:0870a0fb77ea3a214cf62474afc0b316
CATEGORIES:Kantatengottesdienst
CREATED:20241011T193626
SUMMARY:KANTATENGOTTESDIENST | BWV 121 || ERLÖSERGEMEINDE Frankfurt-Oberrad
LOCATION:: Erlöserkirche Oberrad (Melanchthonplatz\, 60599 Frankfurt-Oberrad)
URL;VALUE=URI:https://www.kirchenmusik-dreikoenig.de/de/konzertprogramm/konzertkalender/E
 ventdetail/276/-/kantatengottesdienst-bwv-121-erloesergemeinde-frankfurt-ob
 errad?tmpl=component
DESCRIPTION:<p style="text-align: left;"><strong>Sonntag, 21.12.2025, 11:00 Uhr</strong
 ><br />(4. Advent)<br /><strong><a href="https://erloesergemeinde-oberrad.e
 khn.de/startseite.html" target="_blank" rel="noopener noreferrer" title="Ev
 .-Luth. Erlöserkirche Frankfurt am Main-Oberrad (Melanchthonplatz, 60599 Fr
 ankfurt-Oberrad)">Ev.-Luth. Erlöserkirche Frankfurt am Main-Oberrad</a>&nbs
 p;<br /></strong>(Melanchthonplatz, 60599 Frankfurt)</p><h4 style="text-ali
 gn: left;"><strong>Kantatengottesdienst</strong></h4><p style="text-align: 
 left;"><strong>Johann Sebastian Bach&nbsp;</strong>(1685-1750)<br /><strong
 >"Christum, wir sollen loben schon"</strong> | BWV 121</p><hr /> <a href="h
 ttps://www.kirchenmusik-dreikoenig.de/de/konzertprogramm/konzertkalender/Ev
 entdetail/276/-/kantatengottesdienst-bwv-121-erloesergemeinde-frankfurt-obe
 rrad?tmpl=component">Dieser Event wurde importiert von: https://www.kirchen
 musik-dreikoenig.de/de/konzertprogramm/konzertkalender/Eventdetail/276/-/ka
 ntatengottesdienst-bwv-121-erloesergemeinde-frankfurt-oberrad?tmpl=componen
 t</a>DTSTAMP:20260423T064827
DTSTART;TZID=Europe/Berlin:20251221T110000
DTEND;TZID=Europe/Berlin:20251221T120000
SEQUENCE:0
TRANSP:OPAQUE
END:VEVENT
END:VCALENDAR