BEGIN:VCALENDAR
VERSION:2.0
PRODID:-//jEvents 2.0 for Joomla//EN
CALSCALE:GREGORIAN
METHOD:PUBLISH
BEGIN:VTIMEZONE
TZID:Europe/Berlin
BEGIN:STANDARD
DTSTART:20241027T020000
RDATE:20250330T030000
TZOFFSETFROM:+0200
TZOFFSETTO:+0100
TZNAME:Europe/Berlin CET
END:STANDARD
BEGIN:STANDARD
DTSTART:20251026T020000
RDATE:20260329T030000
TZOFFSETFROM:+0200
TZOFFSETTO:+0100
TZNAME:Europe/Berlin CET
END:STANDARD
BEGIN:STANDARD
DTSTART:20261025T020000
RDATE:20270328T030000
TZOFFSETFROM:+0200
TZOFFSETTO:+0100
TZNAME:Europe/Berlin CET
END:STANDARD
BEGIN:DAYLIGHT
DTSTART:20240920T110000
RDATE:20241027T020000
TZOFFSETFROM:+0100
TZOFFSETTO:+0200
TZNAME:Europe/Berlin CEST
END:DAYLIGHT
BEGIN:DAYLIGHT
DTSTART:20250330T030000
RDATE:20251026T020000
TZOFFSETFROM:+0100
TZOFFSETTO:+0200
TZNAME:Europe/Berlin CEST
END:DAYLIGHT
BEGIN:DAYLIGHT
DTSTART:20260329T030000
RDATE:20261025T020000
TZOFFSETFROM:+0100
TZOFFSETTO:+0200
TZNAME:Europe/Berlin CEST
END:DAYLIGHT
END:VTIMEZONE
BEGIN:VEVENT
UID:c8a80d2c32c53aee4df25d1d2c068b41
CATEGORIES:Kantatengottesdienst
CREATED:20241011T195146
SUMMARY:KANTATENGOTTESDIENST | J. J. Kahle || DREIKÖNIGSKIRCHE
LOCATION:: Dreikönigskirche Frankfurt am Main (Sachsenhäuser Ufer | Nähe Eiserner St
 eg)
URL;VALUE=URI:https://www.kirchenmusik-dreikoenig.de/de/konzertprogramm/konzertkalender/E
 ventdetail/282/-/kantatengottesdienst-j-j-kahle-dreikoenigskirche?tmpl=comp
 onent
DESCRIPTION:<p style="text-align: left;"><strong>Sonntag, 21.09.2025, 11:00 Uhr</strong
 ><strong><br /><a title="Dreikönigskirche Frankfurt am Main (Sachsenhäuser 
 Mainufer, Nähe Eiserner Steg)">Dreikönigskirche Frankfurt am Main</a></stro
 ng></p><h4 style="text-align: left;"><strong>Kantatengottesdienst&nbsp;</st
 rong></h4><p style="text-align: left;"><strong>Johann Justus Kahle </strong
 >(1668-1740)<br /><strong>"Jauchzet dem Herrn, alle Welt"</strong></p><hr /
 > <a href="https://www.kirchenmusik-dreikoenig.de/de/konzertprogramm/konzer
 tkalender/Eventdetail/282/-/kantatengottesdienst-j-j-kahle-dreikoenigskirch
 e?tmpl=component">Dieser Event wurde importiert von: https://www.kirchenmus
 ik-dreikoenig.de/de/konzertprogramm/konzertkalender/Eventdetail/282/-/kanta
 tengottesdienst-j-j-kahle-dreikoenigskirche?tmpl=component</a>DTSTAMP:20260423T082522
DTSTART;TZID=Europe/Berlin:20250921T110000
DTEND;TZID=Europe/Berlin:20250921T123000
SEQUENCE:0
TRANSP:OPAQUE
END:VEVENT
END:VCALENDAR