BEGIN:VCALENDAR
VERSION:2.0
PRODID:-//jEvents 2.0 for Joomla//EN
CALSCALE:GREGORIAN
METHOD:PUBLISH
BEGIN:VTIMEZONE
TZID:Europe/Berlin
BEGIN:STANDARD
DTSTART:20171029T020000
RDATE:20180325T030000
TZOFFSETFROM:+0200
TZOFFSETTO:+0100
TZNAME:Europe/Berlin CET
END:STANDARD
BEGIN:STANDARD
DTSTART:20181028T020000
RDATE:20190331T030000
TZOFFSETFROM:+0200
TZOFFSETTO:+0100
TZNAME:Europe/Berlin CET
END:STANDARD
BEGIN:STANDARD
DTSTART:20191027T020000
RDATE:20200329T030000
TZOFFSETFROM:+0200
TZOFFSETTO:+0100
TZNAME:Europe/Berlin CET
END:STANDARD
BEGIN:STANDARD
DTSTART:20201025T020000
RDATE:20210328T030000
TZOFFSETFROM:+0200
TZOFFSETTO:+0100
TZNAME:Europe/Berlin CET
END:STANDARD
BEGIN:STANDARD
DTSTART:20211031T020000
RDATE:20220327T030000
TZOFFSETFROM:+0200
TZOFFSETTO:+0100
TZNAME:Europe/Berlin CET
END:STANDARD
BEGIN:STANDARD
DTSTART:20221030T020000
RDATE:20230326T030000
TZOFFSETFROM:+0200
TZOFFSETTO:+0100
TZNAME:Europe/Berlin CET
END:STANDARD
BEGIN:STANDARD
DTSTART:20231029T020000
RDATE:20240331T030000
TZOFFSETFROM:+0200
TZOFFSETTO:+0100
TZNAME:Europe/Berlin CET
END:STANDARD
BEGIN:STANDARD
DTSTART:20241027T020000
RDATE:20250330T030000
TZOFFSETFROM:+0200
TZOFFSETTO:+0100
TZNAME:Europe/Berlin CET
END:STANDARD
BEGIN:STANDARD
DTSTART:20251026T020000
RDATE:20260329T030000
TZOFFSETFROM:+0200
TZOFFSETTO:+0100
TZNAME:Europe/Berlin CET
END:STANDARD
BEGIN:STANDARD
DTSTART:20261025T020000
RDATE:20270328T030000
TZOFFSETFROM:+0200
TZOFFSETTO:+0100
TZNAME:Europe/Berlin CET
END:STANDARD
BEGIN:DAYLIGHT
DTSTART:20170922T180000
RDATE:20171029T020000
TZOFFSETFROM:+0100
TZOFFSETTO:+0200
TZNAME:Europe/Berlin CEST
END:DAYLIGHT
BEGIN:DAYLIGHT
DTSTART:20180325T030000
RDATE:20181028T020000
TZOFFSETFROM:+0100
TZOFFSETTO:+0200
TZNAME:Europe/Berlin CEST
END:DAYLIGHT
BEGIN:DAYLIGHT
DTSTART:20190331T030000
RDATE:20191027T020000
TZOFFSETFROM:+0100
TZOFFSETTO:+0200
TZNAME:Europe/Berlin CEST
END:DAYLIGHT
BEGIN:DAYLIGHT
DTSTART:20200329T030000
RDATE:20201025T020000
TZOFFSETFROM:+0100
TZOFFSETTO:+0200
TZNAME:Europe/Berlin CEST
END:DAYLIGHT
BEGIN:DAYLIGHT
DTSTART:20210328T030000
RDATE:20211031T020000
TZOFFSETFROM:+0100
TZOFFSETTO:+0200
TZNAME:Europe/Berlin CEST
END:DAYLIGHT
BEGIN:DAYLIGHT
DTSTART:20220327T030000
RDATE:20221030T020000
TZOFFSETFROM:+0100
TZOFFSETTO:+0200
TZNAME:Europe/Berlin CEST
END:DAYLIGHT
BEGIN:DAYLIGHT
DTSTART:20230326T030000
RDATE:20231029T020000
TZOFFSETFROM:+0100
TZOFFSETTO:+0200
TZNAME:Europe/Berlin CEST
END:DAYLIGHT
BEGIN:DAYLIGHT
DTSTART:20240331T030000
RDATE:20241027T020000
TZOFFSETFROM:+0100
TZOFFSETTO:+0200
TZNAME:Europe/Berlin CEST
END:DAYLIGHT
BEGIN:DAYLIGHT
DTSTART:20250330T030000
RDATE:20251026T020000
TZOFFSETFROM:+0100
TZOFFSETTO:+0200
TZNAME:Europe/Berlin CEST
END:DAYLIGHT
BEGIN:DAYLIGHT
DTSTART:20260329T030000
RDATE:20261025T020000
TZOFFSETFROM:+0100
TZOFFSETTO:+0200
TZNAME:Europe/Berlin CEST
END:DAYLIGHT
END:VTIMEZONE
BEGIN:VEVENT
UID:9f893c81c44f1831c7773ae23565314f
CATEGORIES:Chorkonzert a-cappella
CREATED:20180822T200452
SUMMARY:CHORKONZERT "Nun danket alle Gott" - Kurt-Thomas-Kammerchor
LOCATION::   Dreikönigskirche Frankfurt am Main\, Sachsenhäuser Ufer / Nähe Eiserner
  Steg
URL;VALUE=URI:https://www.kirchenmusik-dreikoenig.de/de/konzertprogramm/konzertkalender/E
 ventdetail/3/-/chorkonzert-nun-danket-alle-gott-kurt-thomas-kammerchor?tmpl
 =component
DESCRIPTION:Sonntag, 23.09.2018, 18 Uhr, \nDreikönigskirche Frankfurt am Main\nPlakat D
 ownload \n (images/PDF/plakatchorkonzertnundanketdkk23092018.pdf)\nCHORKONZ
 ERT "Nun danket alle Gott"Josef Gabriel Rheinberger (1839-1901)\nMESSE in G
 , op. 151\nWerke von \nJohann Schelle (1648-1701),\nJohann Ludwig Bach (167
 7-1731),\nDomenico Scarlatti (1685-1757)\nJohann Christoph Altnickol (1719-
 1759), \nJohannes Brahms (1833-1897) und \nMax Reger (1873-1916)\nKURT-THOM
 AS-KAMMERCHOR\nwww.kurt-thomas-kammerchor.de (http://www.kurt-thomas-kammer
 chor.de) \n\nClaudius Köhs, Orgel\nAndreas Köhs, Leitung\nTickets: 15 EUR, 
 ermäßigt 10 EUR \n(nur Abendkasse, freie Platzwahl)\nMit freundlicher Unter
 stützung:\nStadt Frankfurt am Main - Kulturdezernat - ,\nFrankfurter Sparka
 sse 1822\n \n Dieser Event wurde importiert von: https://www.kirchenmusik-d
 reikoenig.de/de/konzertprogramm/konzertkalender/Eventdetail/3/-/chorkonzert
 -nun-danket-alle-gott-kurt-thomas-kammerchor?tmpl=component (https://www.ki
 rchenmusik-dreikoenig.de/de/konzertprogramm/konzertkalender/Eventdetail/3/-
 /chorkonzert-nun-danket-alle-gott-kurt-thomas-kammerchor?tmpl=component)
X-ALT-DESC;FMTTYPE=text/html:<p style="text-align: left;"><strong>Sonntag, 23.09.2018, 18 Uhr, <br /><a 
 title="Dreikönigskirche Frankfurt am Main (Sachsenhäuser Mainufer, Nähe Eis
 erner Steg)">Dreikönigskirche Frankfurt am Main<br /></a><strong><a title="
 Plakat Download Dreikönigskirche Frankfurt 23.09.2018" href="https://www.ki
 rchenmusik-dreikoenig.de/images/PDF/plakatchorkonzertnundanketdkk23092018.p
 df" target="_blank" rel="alternate noopener noreferrer">Plakat Download <br
  /></a></strong></strong></p><h4 style="text-align: left;"><strong>CHORKONZ
 ERT "Nun danket alle Gott"</strong></h4><p style="text-align: left;"><stron
 g>Josef Gabriel Rheinberger </strong>(1839-1901)<strong><br />MESSE in G, o
 p. 151</strong></p><p style="text-align: left;">Werke von <br />Johann Sche
 lle (1648-1701),<br />Johann Ludwig Bach (1677-1731),<br />Domenico Scarlat
 ti (1685-1757)<br />Johann Christoph Altnickol (1719-1759), <br />Johannes 
 Brahms (1833-1897) und <br />Max Reger (1873-1916)</p><p style="text-align:
  left;"><strong>KURT-THOMAS-KAMMERCHOR</strong><br /><a title="www.kurt-tho
 mas-kammerchor.de" href="http://www.kurt-thomas-kammerchor.de" target="_bla
 nk" rel="alternate noopener noreferrer">www.kurt-thomas-kammerchor.de</a> <
 br /><strong><br />Claudius Köhs</strong>, Orgel</p><p style="text-align: l
 eft;"><strong>Andreas Köhs</strong>, Leitung</p><hr /><p style="text-align:
  left;">Tickets: 15 EUR, ermäßigt 10 EUR <br />(nur Abendkasse, freie Platz
 wahl)</p><hr /><p style="text-align: left;">Mit freundlicher Unterstützung:
 <br />Stadt Frankfurt am Main - Kulturdezernat - ,<br />Frankfurter Sparkas
 se 1822</p><p style="text-align: left;"> </p><hr /><hr /> <a href="https://
 www.kirchenmusik-dreikoenig.de/de/konzertprogramm/konzertkalender/Eventdeta
 il/3/-/chorkonzert-nun-danket-alle-gott-kurt-thomas-kammerchor?tmpl=compone
 nt">Dieser Event wurde importiert von: https://www.kirchenmusik-dreikoenig.
 de/de/konzertprogramm/konzertkalender/Eventdetail/3/-/chorkonzert-nun-danke
 t-alle-gott-kurt-thomas-kammerchor?tmpl=component</a>CONTACT::   https://www.kirchenmusik-dreikoenig.de
DTSTAMP:20260419T122853
DTSTART;TZID=Europe/Berlin:20180923T180000
DTEND;TZID=Europe/Berlin:20180923T193000
SEQUENCE:0
TRANSP:OPAQUE
END:VEVENT
END:VCALENDAR