BEGIN:VCALENDAR
VERSION:2.0
PRODID:-//jEvents 2.0 for Joomla//EN
CALSCALE:GREGORIAN
METHOD:PUBLISH
BEGIN:VTIMEZONE
TZID:Europe/Berlin
BEGIN:STANDARD
DTSTART:20171225T170000
RDATE:20180325T030000
TZOFFSETFROM:+0200
TZOFFSETTO:+0100
TZNAME:Europe/Berlin CET
END:STANDARD
BEGIN:STANDARD
DTSTART:20181028T020000
RDATE:20190331T030000
TZOFFSETFROM:+0200
TZOFFSETTO:+0100
TZNAME:Europe/Berlin CET
END:STANDARD
BEGIN:STANDARD
DTSTART:20191027T020000
RDATE:20200329T030000
TZOFFSETFROM:+0200
TZOFFSETTO:+0100
TZNAME:Europe/Berlin CET
END:STANDARD
BEGIN:STANDARD
DTSTART:20201025T020000
RDATE:20210328T030000
TZOFFSETFROM:+0200
TZOFFSETTO:+0100
TZNAME:Europe/Berlin CET
END:STANDARD
BEGIN:STANDARD
DTSTART:20211031T020000
RDATE:20220327T030000
TZOFFSETFROM:+0200
TZOFFSETTO:+0100
TZNAME:Europe/Berlin CET
END:STANDARD
BEGIN:STANDARD
DTSTART:20221030T020000
RDATE:20230326T030000
TZOFFSETFROM:+0200
TZOFFSETTO:+0100
TZNAME:Europe/Berlin CET
END:STANDARD
BEGIN:STANDARD
DTSTART:20231029T020000
RDATE:20240331T030000
TZOFFSETFROM:+0200
TZOFFSETTO:+0100
TZNAME:Europe/Berlin CET
END:STANDARD
BEGIN:STANDARD
DTSTART:20241027T020000
RDATE:20250330T030000
TZOFFSETFROM:+0200
TZOFFSETTO:+0100
TZNAME:Europe/Berlin CET
END:STANDARD
BEGIN:STANDARD
DTSTART:20251026T020000
RDATE:20260329T030000
TZOFFSETFROM:+0200
TZOFFSETTO:+0100
TZNAME:Europe/Berlin CET
END:STANDARD
BEGIN:STANDARD
DTSTART:20261025T020000
RDATE:20270328T030000
TZOFFSETFROM:+0200
TZOFFSETTO:+0100
TZNAME:Europe/Berlin CET
END:STANDARD
BEGIN:DAYLIGHT
DTSTART:20180325T030000
RDATE:20181028T020000
TZOFFSETFROM:+0100
TZOFFSETTO:+0200
TZNAME:Europe/Berlin CEST
END:DAYLIGHT
BEGIN:DAYLIGHT
DTSTART:20190331T030000
RDATE:20191027T020000
TZOFFSETFROM:+0100
TZOFFSETTO:+0200
TZNAME:Europe/Berlin CEST
END:DAYLIGHT
BEGIN:DAYLIGHT
DTSTART:20200329T030000
RDATE:20201025T020000
TZOFFSETFROM:+0100
TZOFFSETTO:+0200
TZNAME:Europe/Berlin CEST
END:DAYLIGHT
BEGIN:DAYLIGHT
DTSTART:20210328T030000
RDATE:20211031T020000
TZOFFSETFROM:+0100
TZOFFSETTO:+0200
TZNAME:Europe/Berlin CEST
END:DAYLIGHT
BEGIN:DAYLIGHT
DTSTART:20220327T030000
RDATE:20221030T020000
TZOFFSETFROM:+0100
TZOFFSETTO:+0200
TZNAME:Europe/Berlin CEST
END:DAYLIGHT
BEGIN:DAYLIGHT
DTSTART:20230326T030000
RDATE:20231029T020000
TZOFFSETFROM:+0100
TZOFFSETTO:+0200
TZNAME:Europe/Berlin CEST
END:DAYLIGHT
BEGIN:DAYLIGHT
DTSTART:20240331T030000
RDATE:20241027T020000
TZOFFSETFROM:+0100
TZOFFSETTO:+0200
TZNAME:Europe/Berlin CEST
END:DAYLIGHT
BEGIN:DAYLIGHT
DTSTART:20250330T030000
RDATE:20251026T020000
TZOFFSETFROM:+0100
TZOFFSETTO:+0200
TZNAME:Europe/Berlin CEST
END:DAYLIGHT
BEGIN:DAYLIGHT
DTSTART:20260329T030000
RDATE:20261025T020000
TZOFFSETFROM:+0100
TZOFFSETTO:+0200
TZNAME:Europe/Berlin CEST
END:DAYLIGHT
END:VTIMEZONE
BEGIN:VEVENT
UID:2fdf4f3f7a6d72d0f67be6daab1460d1
CATEGORIES:Weihnachtskonzert
CREATED:20180822T202538
SUMMARY:WEIHNACHTSKONZERT 2018 - Kurt-Thomas-Kammerchor
LOCATION::   Dreikönigskirche Frankfurt am Main\, Sachsenhäuser Ufer / Nähe Eiserner
  Steg
URL;VALUE=URI:https://www.kirchenmusik-dreikoenig.de/de/konzertprogramm/konzertkalender/E
 ventdetail/8/-/weihnachtskonzert-2018-kurt-thomas-kammerchor?tmpl=component
DESCRIPTION:Mittwoch, 26.12.2018 (2. Weihnachtsfeiertag), 17 Uhr, \nDreikönigskirche Fr
 ankfurt am Main\n\nKONZERT ZUM WEIHNACHTSFEST\n Weihnachtliche Chor- und Or
 gelmusikWerke von C. Monteverdi, M. Praetorius,\nA. Hammerschmidt, H. Schüt
 z, J. S. Bach u.a.\nKURT-THOMAS-KAMMERCHOR\nwww.kurt-thomas-kammerchor.de (
 http://www.kurt-thomas-kammerchor.de)\nLeitung und Orgel: Andreas Köhs\nTic
 kets: 10 EUR, ermäßigt 5 EUR \n(nur Abendkasse, freie Platzwahl)\nMit freun
 dlicher Unterstützung:\nStadt Frankfurt am Main - Kulturdezernat -,\nFrankf
 urter Sparkasse 1822\n Dieser Event wurde importiert von: https://www.kirch
 enmusik-dreikoenig.de/de/konzertprogramm/konzertkalender/Eventdetail/8/-/we
 ihnachtskonzert-2018-kurt-thomas-kammerchor?tmpl=component
X-ALT-DESC;FMTTYPE=text/html:<p style="text-align: left;"><strong>Mittwoch, 26.12.2018 (2. Weihnachtsfei
 ertag), 17 Uhr, <br /><a title="Dreikönigskirche Frankfurt am Main (Sachsen
 häuser Mainufer, Nähe Eiserner Steg)">Dreikönigskirche Frankfurt am Main</a
 ></strong><strong><br /></strong></p><h4 style="text-align: left;"><strong>
 KONZERT ZUM WEIHNACHTSFEST<br /></strong> <strong>Weihnachtliche Chor- und 
 Orgelmusik</strong></h4><p style="text-align: left;">Werke von C. Monteverd
 i, M. Praetorius,<br />A. Hammerschmidt, H. Schütz, J. S. Bach u.a.</p><p s
 tyle="text-align: left;"><strong>KURT-THOMAS-KAMMERCHOR</strong><br /><a ti
 tle="www.kurt-thomas-kammerchor.de" href="http://www.kurt-thomas-kammerchor
 .de" target="_blank" rel="alternate noopener noreferrer">www.kurt-thomas-ka
 mmerchor.de</a></p><p style="text-align: left;">Leitung und Orgel: <strong>
 Andreas Köhs</strong></p><hr /><p style="text-align: left;">Tickets: 10 EUR
 , ermäßigt 5 EUR <br />(nur Abendkasse, freie Platzwahl)</p><hr /><p style=
 "text-align: left;">Mit freundlicher Unterstützung:<br />Stadt Frankfurt am
  Main - Kulturdezernat -,<br />Frankfurter Sparkasse 1822</p><hr /><hr /> <
 a href="https://www.kirchenmusik-dreikoenig.de/de/konzertprogramm/konzertka
 lender/Eventdetail/8/-/weihnachtskonzert-2018-kurt-thomas-kammerchor?tmpl=c
 omponent">Dieser Event wurde importiert von: https://www.kirchenmusik-dreik
 oenig.de/de/konzertprogramm/konzertkalender/Eventdetail/8/-/weihnachtskonze
 rt-2018-kurt-thomas-kammerchor?tmpl=component</a>CONTACT::   https://www.kirchenmusik-dreikoenig.de
DTSTAMP:20260419T122934
DTSTART;TZID=Europe/Berlin:20181226T170000
DTEND;TZID=Europe/Berlin:20181226T183000
SEQUENCE:0
TRANSP:OPAQUE
END:VEVENT
END:VCALENDAR